BEGIN:VCALENDAR
VERSION:2.0
PRODID:-//Obec Karlovice - ECPv5.14.0.4//NONSGML v1.0//EN
CALSCALE:GREGORIAN
METHOD:PUBLISH
X-WR-CALNAME:Obec Karlovice
X-ORIGINAL-URL:https://www.karlovice.eu
X-WR-CALDESC:Akce na Obec Karlovice
REFRESH-INTERVAL;VALUE=DURATION:PT1H
X-Robots-Tag:noindex
X-PUBLISHED-TTL:PT1H
BEGIN:VTIMEZONE
TZID:UTC
BEGIN:STANDARD
TZOFFSETFROM:+0000
TZOFFSETTO:+0000
TZNAME:UTC
DTSTART:20220101T000000
END:STANDARD
END:VTIMEZONE
BEGIN:VEVENT
DTSTART;TZID=UTC:20220521T000000
DTEND;TZID=UTC:20220722T000000
DTSTAMP:20260422T085937
CREATED:20220628T062339Z
LAST-MODIFIED:20220628T062339Z
UID:9468-1653091200-1658448000@www.karlovice.eu
SUMMARY:Výstava – Lenka Klofáčová Pavézková
DESCRIPTION:
URL:https://www.karlovice.eu/udalosti/vystava-lenka-klofacova-pavezkova/
LOCATION:Pension U řeky\, Karlovice 209\, Karlovice\, 79323\, Česká republika
END:VEVENT
BEGIN:VEVENT
DTSTART;TZID=UTC:20220701T000000
DTEND;TZID=UTC:20220831T000000
DTSTAMP:20260422T085937
CREATED:20220628T061822Z
LAST-MODIFIED:20220628T061822Z
UID:9462-1656633600-1661904000@www.karlovice.eu
SUMMARY:Prázdniny ve mlýně
DESCRIPTION:
URL:https://www.karlovice.eu/udalosti/prazdniny-ve-mlyne/
LOCATION:Moravskoslezský
END:VEVENT
END:VCALENDAR