BEGIN:VCALENDAR
VERSION:2.0
PRODID:-//Obec Karlovice - ECPv5.14.0.4//NONSGML v1.0//EN
CALSCALE:GREGORIAN
METHOD:PUBLISH
X-WR-CALNAME:Obec Karlovice
X-ORIGINAL-URL:https://www.karlovice.eu
X-WR-CALDESC:Akce na Obec Karlovice
REFRESH-INTERVAL;VALUE=DURATION:PT1H
X-Robots-Tag:noindex
X-PUBLISHED-TTL:PT1H
BEGIN:VTIMEZONE
TZID:UTC
BEGIN:STANDARD
TZOFFSETFROM:+0000
TZOFFSETTO:+0000
TZNAME:UTC
DTSTART:20260101T000000
END:STANDARD
END:VTIMEZONE
BEGIN:VEVENT
DTSTART;TZID=UTC:20260221T100000
DTEND;TZID=UTC:20260221T170000
DTSTAMP:20260422T085909
CREATED:20260126T100510Z
LAST-MODIFIED:20260126T100530Z
UID:12225-1771668000-1771693200@www.karlovice.eu
SUMMARY:Sobota Ve mlýně
DESCRIPTION:
URL:https://www.karlovice.eu/udalosti/sobota-ve-mlyne-3/
LOCATION:Moravskoslezský
END:VEVENT
BEGIN:VEVENT
DTSTART;TZID=UTC:20260221T140000
DTEND;TZID=UTC:20260221T140000
DTSTAMP:20260422T085909
CREATED:20260127T102811Z
LAST-MODIFIED:20260219T103542Z
UID:12242-1771682400-1771682400@www.karlovice.eu
SUMMARY:Velikonoční zdobení perníčků - ZRUŠENO
DESCRIPTION:Edit: Pro nízký zájem se tato akce ruší. \nSrdečně vás zveme na tvořivý kurz velikonočního zdobení perníčků\, který proběhne pod vedením Hany Sovové z Ostravy. \n📅 Datum: 21. 2. 2026\n🕑 Čas: od 14:00 hod.\n📍 Místo: Malý sál Obecního domu Slezan\, Karlovice \n🕒 Délka kurzu: 4–5 hodin\n💰 Vstupné: 1 000 Kč \n✨ V ceně kurzu je zahrnuto: \n\ndrobné občerstvení\nrecepty\ncukrářské štětce\, jehly\, sáčky a poleva\n3 perníčky ke zdobení (cca 10 cm)\n\nPřijďte si užít příjemné odpoledne plné kreativity\, velikonoční atmosféry a sladkého tvoření. Kurz je vhodný pro všechny bez ohledu na předchozí zkušenosti. \n📞 Bližší informace:\nNada Paňáková\, tel. 777 912 464 \nTěšíme se na vás! 🐣🍪
URL:https://www.karlovice.eu/udalosti/velikonocni-zdobeni-pernicku/
LOCATION:Obecní dům Slezan\, Karlovice 183\, Karlovice\, Moravskoslezský\, 79323\, Česká republika
END:VEVENT
END:VCALENDAR