BEGIN:VCALENDAR
VERSION:2.0
PRODID:-//Obec Karlovice - ECPv5.14.0.4//NONSGML v1.0//EN
CALSCALE:GREGORIAN
METHOD:PUBLISH
X-WR-CALNAME:Obec Karlovice
X-ORIGINAL-URL:https://www.karlovice.eu
X-WR-CALDESC:Akce na Obec Karlovice
REFRESH-INTERVAL;VALUE=DURATION:PT1H
X-Robots-Tag:noindex
X-PUBLISHED-TTL:PT1H
BEGIN:VTIMEZONE
TZID:UTC
BEGIN:STANDARD
TZOFFSETFROM:+0000
TZOFFSETTO:+0000
TZNAME:UTC
DTSTART:20260101T000000
END:STANDARD
END:VTIMEZONE
BEGIN:VEVENT
DTSTART;TZID=UTC:20260909T083000
DTEND;TZID=UTC:20260909T083000
DTSTAMP:20260422T101159
CREATED:20260116T070118Z
LAST-MODIFIED:20260116T070139Z
UID:12201-1788942600-1788942600@www.karlovice.eu
SUMMARY:Zájezd seniorů
DESCRIPTION:Bližší informace budou zveřejněny.
URL:https://www.karlovice.eu/udalosti/zajezd-senioru-3/
LOCATION:Moravskoslezský
END:VEVENT
BEGIN:VEVENT
DTSTART;TZID=UTC:20260916T170000
DTEND;TZID=UTC:20260916T170000
DTSTAMP:20260422T101159
CREATED:20260114T070546Z
LAST-MODIFIED:20260114T070630Z
UID:12181-1789578000-1789578000@www.karlovice.eu
SUMMARY:Zasedání ZO Karlovice III/2026
DESCRIPTION:
URL:https://www.karlovice.eu/udalosti/zasedani-zo-karlovice-iii-2026/
LOCATION:Obecní dům Slezan\, Karlovice 183\, Karlovice\, Moravskoslezský\, 79323\, Česká republika
ORGANIZER;CN="Obec%20Karlovice":MAILTO:podatelna@karlovice.eu
END:VEVENT
END:VCALENDAR