BEGIN:VCALENDAR
VERSION:2.0
PRODID:-//Obec Karlovice - ECPv5.14.0.4//NONSGML v1.0//EN
CALSCALE:GREGORIAN
METHOD:PUBLISH
X-WR-CALNAME:Obec Karlovice
X-ORIGINAL-URL:https://www.karlovice.eu
X-WR-CALDESC:Akce na Obec Karlovice
REFRESH-INTERVAL;VALUE=DURATION:PT1H
X-Robots-Tag:noindex
X-PUBLISHED-TTL:PT1H
BEGIN:VTIMEZONE
TZID:UTC
BEGIN:STANDARD
TZOFFSETFROM:+0000
TZOFFSETTO:+0000
TZNAME:UTC
DTSTART:20210101T000000
END:STANDARD
END:VTIMEZONE
BEGIN:VEVENT
DTSTART;TZID=UTC:20220529T140000
DTEND;TZID=UTC:20220529T140000
DTSTAMP:20260422T104128
CREATED:20220526T122344Z
LAST-MODIFIED:20220526T122344Z
UID:9397-1653832800-1653832800@www.karlovice.eu
SUMMARY:Dětský den
DESCRIPTION:
URL:https://www.karlovice.eu/udalosti/detsky-den-2/
LOCATION:Moravskoslezský
END:VEVENT
BEGIN:VEVENT
DTSTART;TZID=UTC:20220528T170000
DTEND;TZID=UTC:20220528T170000
DTSTAMP:20260422T104128
CREATED:20220526T123210Z
LAST-MODIFIED:20220526T123210Z
UID:9400-1653757200-1653757200@www.karlovice.eu
SUMMARY:Zápas Karlovice – Krásné Loučky
DESCRIPTION:
URL:https://www.karlovice.eu/udalosti/zapas-karlovice-krasne-loucky/
LOCATION:Moravskoslezský
END:VEVENT
BEGIN:VEVENT
DTSTART;TZID=UTC:20220524T150000
DTEND;TZID=UTC:20220524T170000
DTSTAMP:20260422T104128
CREATED:20220505T053351Z
LAST-MODIFIED:20220505T053351Z
UID:9356-1653404400-1653411600@www.karlovice.eu
SUMMARY:EVROPSKÝ DEN PARKŮ
DESCRIPTION:EVROPSKÝ DEN PARKŮ \núterý 24. 5. 2022\, od 15 do 17 hodin \nVzdělávací centrum Ve mlýně Karlovice \nVenkovní program. Poznávání stromů\, povídání o lese. V případě deště budeme tvořit Ve mlýně.
URL:https://www.karlovice.eu/udalosti/evropsky-den-parku/
LOCATION:Moravskoslezský
END:VEVENT
BEGIN:VEVENT
DTSTART;TZID=UTC:20220515T170000
DTEND;TZID=UTC:20220515T170000
DTSTAMP:20260422T104128
CREATED:20220505T053900Z
LAST-MODIFIED:20220505T053900Z
UID:9360-1652634000-1652634000@www.karlovice.eu
SUMMARY:MILUJU JESENÍKY – autorské čtení
DESCRIPTION:MILUJU JESENÍKY – autorské čtení \nneděle 15. 5. 2022 v 17 hodin \nVzdělávací centrum Ve mlýně Karlovice \nPovídání a autorské čtení s jesenickou spisovatelkou Miroslavou Krčovou\, která si říká Jesenická Maryška. Narodila se a dětství prožila právě v Karlovicích\, a to v Kosárně\, její babička byla paní Pelánová. Je absolventkou pedagogické fakulty Univerzity Palackého v Olomouci. Psaní na svůj blog začala v roce 2014 jako milovnice Jeseníků\, ve kterých žije celý život\, a je v nich trvale a pevně zakořeněna. Příroda ji inspiruje a nabíjí. Zatím vydala dvě knihy – Miluju Jeseníky a Jesenická Maryška v New Yorku.\nKe svému vyjádření používá hlavně humor a nadsázku.
URL:https://www.karlovice.eu/udalosti/miluju-jeseniky-autorske-cteni/
LOCATION:Moravskoslezský
END:VEVENT
BEGIN:VEVENT
DTSTART;TZID=UTC:20220515T150000
DTEND;TZID=UTC:20220515T180000
DTSTAMP:20260422T104128
CREATED:20220505T053614Z
LAST-MODIFIED:20220505T053614Z
UID:9358-1652626800-1652637600@www.karlovice.eu
SUMMARY:DEN RODINY – odpoledne plné her
DESCRIPTION:DEN RODINY – odpoledne plné her \nneděle 15.5.2022 od 15 do 18 hodin \nVzdělávací centrum Ve mlýně Karlovice \nTurnaj v pétanque\, soutěže pro děti\, deskové hry\, autorské čtení.\nObčerstvení zajištěno. Pořádáme ve spolupráci se spolkem Kominíček Karlovice.
URL:https://www.karlovice.eu/udalosti/den-rodiny-odpoledne-plne-her/
LOCATION:Moravskoslezský
END:VEVENT
BEGIN:VEVENT
DTSTART;TZID=UTC:20220510T150000
DTEND;TZID=UTC:20220510T170000
DTSTAMP:20260422T104128
CREATED:20220505T053110Z
LAST-MODIFIED:20220505T053110Z
UID:9354-1652194800-1652202000@www.karlovice.eu
SUMMARY:JARNÍ PŘÍRODA
DESCRIPTION:JARNÍ PŘÍRODA \núterý 10. 5. 2022\, od 15 do 17 hodin \nVzdělávací centrum Ve mlýně Karlovice \nVycházka do jarní přírody pro děti i rodiče. V případě deště budeme tvořit Ve mlýně.
URL:https://www.karlovice.eu/udalosti/jarni-priroda/
LOCATION:Moravskoslezský
END:VEVENT
BEGIN:VEVENT
DTSTART;TZID=UTC:20220430T150000
DTEND;TZID=UTC:20220430T150000
DTSTAMP:20260422T104128
CREATED:20220330T092206Z
LAST-MODIFIED:20220330T092206Z
UID:9305-1651330800-1651330800@www.karlovice.eu
SUMMARY:Pálení čarodějnic na Malajce
DESCRIPTION:Hospůdka Malajka pořádá v sobotu 30. 4. 2022 PÁLENÍ ČARODĚJNIC.\nSrdečně zveme všechny děti a rodiče\, kteří mají rádi zábavu\, srandu a soutěže. Začínáme v 15:00 hodin a masky s sebou. Budou připraveny soutěže\, opékání špekounů\, vyhodnocení nejkrásnější čarodějnice a čaroděje\, plno dobrot a cen pro děti.
URL:https://www.karlovice.eu/udalosti/paleni-carodejnic-na-malajce/
LOCATION:Moravskoslezský
END:VEVENT
BEGIN:VEVENT
DTSTART;TZID=UTC:20220429T190000
DTEND;TZID=UTC:20220429T190000
DTSTAMP:20260422T104128
CREATED:20220407T082740Z
LAST-MODIFIED:20220407T082740Z
UID:9338-1651258800-1651258800@www.karlovice.eu
SUMMARY:Večerní posezení s hudebním doprovodem Petra Košaře
DESCRIPTION:Večerní posezení s hudebním doprovodem Petra Košaře \npátek 29. 4. 2022 od 19 hodin Ve mlýně \nVzdělávací centrum VÍCE Ve mlýně Karlovice \nPřátelské posezení v prostorách mlýna se sklenkou dobrého vína. K poslechu a zpěvu zahraje Petr Košař. Vstupné dobrovolné.
URL:https://www.karlovice.eu/udalosti/vecerni-posezeni-s-hudebnim-doprovodem-petra-kosare/
LOCATION:Moravskoslezský
END:VEVENT
BEGIN:VEVENT
DTSTART;TZID=UTC:20220429T160000
DTEND;TZID=UTC:20220429T160000
DTSTAMP:20260422T104128
CREATED:20220407T082059Z
LAST-MODIFIED:20220407T082059Z
UID:9335-1651248000-1651248000@www.karlovice.eu
SUMMARY:Čti Jeseníky\, čti Karlovice
DESCRIPTION:Čti Jeseníky\, čti Karlovice \npátek 29. 4. 2022 v 16 hodin Ve mlýně \nVzdělávací centrum VÍCE Ve mlýně Karlovice \nPovídání a autorské čtení z knihy Čti Jeseníky s Lukášem Abtem. Promítání historických fotografií z Karlovic\, prohlížení starých pohlednic. Přineste svoje materiály a podělte se s ostatními o radost z nich. Zakončeno posezením s hudebním doprovodem Petra Košaře. \n 
URL:https://www.karlovice.eu/udalosti/cti-jeseniky-cti-karlovice/
LOCATION:Moravskoslezský
END:VEVENT
BEGIN:VEVENT
DTSTART;TZID=UTC:20220426T150000
DTEND;TZID=UTC:20220426T170000
DTSTAMP:20260422T104128
CREATED:20220407T075745Z
LAST-MODIFIED:20220407T075745Z
UID:9333-1650985200-1650992400@www.karlovice.eu
SUMMARY:Jak tančí zvířátka
DESCRIPTION:Jak tančí zvířátka \núterý 26. 4. 2022 15-17 hodin \nVzdělávací centrum VÍCE Ve mlýně Karlovice \nSrdečně zveme rodiče s dětmi na promítání\, jak tančí zvířátka. Děti si vyrobí masky a samy si v nich potom taky zatančí.
URL:https://www.karlovice.eu/udalosti/jak-tanci-zviratka/
LOCATION:Moravskoslezský
END:VEVENT
BEGIN:VEVENT
DTSTART;TZID=UTC:20220423T090000
DTEND;TZID=UTC:20220423T160000
DTSTAMP:20260422T104128
CREATED:20220330T091551Z
LAST-MODIFIED:20220330T091551Z
UID:9302-1650704400-1650729600@www.karlovice.eu
SUMMARY:Karlovický JARNÍ BAZÁREK
DESCRIPTION:
URL:https://www.karlovice.eu/udalosti/karlovicky-jarni-bazarek/
LOCATION:Obecní dům Slezan\, Karlovice 183\, Karlovice\, Moravskoslezský\, 79323\, Česká republika
END:VEVENT
BEGIN:VEVENT
DTSTART;TZID=UTC:20220422T090000
DTEND;TZID=UTC:20220422T090000
DTSTAMP:20260422T104128
CREATED:20220330T094435Z
LAST-MODIFIED:20220330T094435Z
UID:9315-1650618000-1650618000@www.karlovice.eu
SUMMARY:Den Země
DESCRIPTION:
URL:https://www.karlovice.eu/udalosti/den-zeme/
LOCATION:Moravskoslezský
ORGANIZER;CN="Obec%20Karlovice":MAILTO:podatelna@karlovice.eu
END:VEVENT
BEGIN:VEVENT
DTSTART;TZID=UTC:20220414T090000
DTEND;TZID=UTC:20220414T170000
DTSTAMP:20260422T104128
CREATED:20220407T075527Z
LAST-MODIFIED:20220407T075527Z
UID:9330-1649926800-1649955600@www.karlovice.eu
SUMMARY:Velikonoční zvyky a tvoření na Zelený čtvrtek
DESCRIPTION:Velikonoční zvyky a tvoření na Zelený čtvrtek  \nčtvrtek 14. 4. 2022 9-12\, 14-17 \nVzdělávací centrum VÍCE Ve mlýně Karlovice \nNevíte\, jak děti zabavit o velikonočních prázdninách? Ve mlýně si mohou něco vyrobit a zahrát si deskové hry. Odpoledne mohou přijít i rodiče. Program zajišťují naše lektorky.
URL:https://www.karlovice.eu/udalosti/velikonocni-zvyky-a-tvoreni-na-zeleny-ctvrtek/
LOCATION:Moravskoslezský
END:VEVENT
BEGIN:VEVENT
DTSTART;TZID=UTC:20220412T150000
DTEND;TZID=UTC:20220412T170000
DTSTAMP:20260422T104128
CREATED:20220407T075115Z
LAST-MODIFIED:20220407T075115Z
UID:9327-1649775600-1649782800@www.karlovice.eu
SUMMARY:Velikonoční tvoření
DESCRIPTION:Velikonoční tvoření \núterý 12.4.2022 v 15-17 hodin \nVzdělávací centrum VÍCE Ve mlýně Karlovice \nSrdečně zveme rodiče s dětmi na Velikonoční tvoření a hraní pro nejmladší školáčky a školkáčky.
URL:https://www.karlovice.eu/udalosti/velikonocni-tvoreni/
LOCATION:Moravskoslezský
END:VEVENT
BEGIN:VEVENT
DTSTART;TZID=UTC:20220402T100000
DTEND;TZID=UTC:20220402T150000
DTSTAMP:20260422T104128
CREATED:20220324T102231Z
LAST-MODIFIED:20220324T102231Z
UID:9295-1648893600-1648911600@www.karlovice.eu
SUMMARY:Den zdraví
DESCRIPTION:
URL:https://www.karlovice.eu/udalosti/den-zdravi/
LOCATION:Obecní dům Slezan\, Karlovice 183\, Karlovice\, Moravskoslezský\, 79323\, Česká republika
ORGANIZER;CN="Obec%20Karlovice":MAILTO:podatelna@karlovice.eu
END:VEVENT
BEGIN:VEVENT
DTSTART;TZID=UTC:20220401T150000
DTEND;TZID=UTC:20220401T170000
DTSTAMP:20260422T104128
CREATED:20220401T060536Z
LAST-MODIFIED:20220401T060536Z
UID:9318-1648825200-1648832400@www.karlovice.eu
SUMMARY:Ptáci na krmítku
DESCRIPTION:VÍCE Ve mlýně pořádá v pátek 1. 4. 2022 odpoledne pro děti Ptáci na krmítku. \nZveme rodiče s dětmi v pátek 1. 4. od 15 do 17 hodin do Vzdělávacího centra VÍCE Ve mlýně Karlovice. Dozvíte se\, jak krmit správně ptáčky v zimě a vyrobíte si jednoduché krmítko. \n 
URL:https://www.karlovice.eu/udalosti/ptaci-na-krmitku/
LOCATION:Moravskoslezský
END:VEVENT
BEGIN:VEVENT
DTSTART;VALUE=DATE:20220319
DTEND;VALUE=DATE:20220521
DTSTAMP:20260422T104128
CREATED:20220330T092855Z
LAST-MODIFIED:20220330T092855Z
UID:9308-1647648000-1653091199@www.karlovice.eu
SUMMARY:Výstava Vlasty Švejdové
DESCRIPTION:
URL:https://www.karlovice.eu/udalosti/vystava-vlasty-svejdove/
LOCATION:Pension U řeky\, Karlovice 209\, Karlovice\, 79323\, Česká republika
END:VEVENT
BEGIN:VEVENT
DTSTART;TZID=UTC:20211023T090000
DTEND;TZID=UTC:20211023T160000
DTSTAMP:20260422T104128
CREATED:20211013T073508Z
LAST-MODIFIED:20211013T073508Z
UID:9051-1634979600-1635004800@www.karlovice.eu
SUMMARY:Karlovický bazárek
DESCRIPTION:Karlovický bazárek\nSobota 23. 10. 2021 od 9.00 hod do 16.00 hod\nZveme všechny na náš bazárek\, který pořádáme již od roku 2010. Určitě si zde můžete najít a zakoupit pěkné věci\, hračky\, nábytek\, sportovní náčiní atd… za skvělé ceny. \nVšichni prodávající prosím kontaktujte paní Paňákovou na čísle 777 912 464\, kde Vám bude přiděleno číslo a veškeré informace. Pod tímto číslem si oceníte jednotlivé kusy nabízeného zboží (např. označení číslem prodávajícího 28 v kroužku/cena za zboží 30 Kč). Každý kousek označte prosím pevně. V případě\, že se cena s číslem prodávajícího odlepí\, nemůžeme nabízené zboží ani prodat a ani přiřadit zpět k majiteli.  Což se nám opakuje. \nVámi nabízené věci můžete prodávat i osobně. \nKdo své oblečení již nechce zpět\, nahlásí to pořádajícím. Ještě ten den charitě rozdělíme\, nabalíme a odvážíme na sběrné místo. \nVšem děkujeme za velký zájem a předem se omlouváme\, pokud Vás již není možno zařadit do prodeje. Bohužel nemáme možnost větších prostor a tím je kapacita prostoru omezena. \nProdávané zboží můžete přivézt v klidu 22.10.2021 do obecního domu SLEZAN Karlovice a to od 17:00 hod. Druhý den (sobota) si neprodané zboží můžete odvézt zpět po ukončení prodeje v 16:00 hod. Za prodané zboží budete ihned vyplaceni. \nV nabídce je oblečení pro děti i dospělé. Boty\, lyže\, brusle\, kočárky\, kola\, nádobí\, kabelky\, hračky\, knihy a jiné. Po domluvě můžete přivézt prakticky cokoliv. \nMísto konání je v obecním domě SLEZAN Karlovice ve společenském sále. \nPřipomínáme\, že za ztracené kousky oblečení neručíme! Proto prosím všechny prodávající\, aby si přišli včas své neprodané kousky odebrat nejlépe v 15:00 hod. Vznikne tak prostor na dohledání.  \nObecní dům najdete ve středu obce u autobusové zastávky Slezan. \nTěšíme se na Vás a už teď přejeme příjemný a skvělý nákup. \nOrganizuje: Naděžda Paňáková \nmobil: 777 912 464 \n  \nVyhlášeno rozhlasem: \n21. 10. v 11:00 hod.\, 22. 10. v 11:00 a 16:00 hod.
URL:https://www.karlovice.eu/udalosti/karlovicky-bazarek/
LOCATION:Obecní dům Slezan\, Karlovice 183\, Karlovice\, Moravskoslezský\, 79323\, Česká republika
END:VEVENT
BEGIN:VEVENT
DTSTART;TZID=UTC:20211021T170000
DTEND;TZID=UTC:20211021T180000
DTSTAMP:20260422T104128
CREATED:20211013T072604Z
LAST-MODIFIED:20211013T072604Z
UID:9047-1634835600-1634839200@www.karlovice.eu
SUMMARY:V rodině velí a vládne muž!
DESCRIPTION:Obec Karlovice vás srdečně zve na\n komponovaný pořad plný věčně mladých\, známých a slavných operetních melodií \nV RODINĚ VELÍ A VLÁDNE MUŽ!\núčinkují přední sólisté Národního divadla moravskoslezského v Ostravě \nEva Zbrožková a Peter Svetlík\, slovem provází Alena Bastlová\, Petr Miller\, klavírní doprovod Nenko Slavov\, Petr Miller \n \nČTVRTEK 21. 10. OD 17:00 HODIN\nKULTURNÍ SÁL OBECNÍHO DOMU SLEZAN\nPokračování příběhu „Když dva se rádi mají“. \nA i když se měli moc rádi\, po dvaceti letech manželství to u nich může vypadat úplně jinak než na začátku… \n  \nVyhlášeno rozhlasem: \n18. 10. v 16:00 hod.\, 19. 10. v 16:00 hod. 20. 10 v 11:00 a 16:00 hod.
URL:https://www.karlovice.eu/udalosti/v-rodine-veli-a-vladne-muz/
LOCATION:Obecní dům Slezan\, Karlovice 183\, Karlovice\, Moravskoslezský\, 79323\, Česká republika
ORGANIZER;CN="Obec%20Karlovice":MAILTO:podatelna@karlovice.eu
END:VEVENT
BEGIN:VEVENT
DTSTART;TZID=UTC:20211020T150000
DTEND;TZID=UTC:20211020T150000
DTSTAMP:20260422T104128
CREATED:20211019T124733Z
LAST-MODIFIED:20211019T124733Z
UID:9062-1634742000-1634742000@www.karlovice.eu
SUMMARY:Den stromů
DESCRIPTION:
URL:https://www.karlovice.eu/udalosti/den-stromu/
LOCATION:Moravskoslezský
END:VEVENT
BEGIN:VEVENT
DTSTART;TZID=UTC:20210925T190000
DTEND;TZID=UTC:20210925T190000
DTSTAMP:20260422T104128
CREATED:20210917T074035Z
LAST-MODIFIED:20210917T074035Z
UID:9018-1632596400-1632596400@www.karlovice.eu
SUMMARY:SYxtet Svitavy
DESCRIPTION:
URL:https://www.karlovice.eu/udalosti/syxtet-svitavy/
LOCATION:Moravskoslezský
END:VEVENT
BEGIN:VEVENT
DTSTART;TZID=UTC:20210908T080000
DTEND;TZID=UTC:20210908T173000
DTSTAMP:20260422T104128
CREATED:20210825T061218Z
LAST-MODIFIED:20210825T061218Z
UID:8977-1631088000-1631122200@www.karlovice.eu
SUMMARY:Zájezd pro seniory
DESCRIPTION:
URL:https://www.karlovice.eu/udalosti/zajezd-pro-seniory/
LOCATION:Moravskoslezský
ORGANIZER;CN="Obec%20Karlovice":MAILTO:podatelna@karlovice.eu
END:VEVENT
BEGIN:VEVENT
DTSTART;TZID=UTC:20210831T150000
DTEND;TZID=UTC:20210831T180000
DTSTAMP:20260422T104128
CREATED:20210830T071726Z
LAST-MODIFIED:20210830T071726Z
UID:8980-1630422000-1630432800@www.karlovice.eu
SUMMARY:Rozloučení s prázdninami
DESCRIPTION:
URL:https://www.karlovice.eu/udalosti/rozlouceni-s-prazdninami/
LOCATION:Moravskoslezský
ORGANIZER;CN="Obec%20Karlovice":MAILTO:podatelna@karlovice.eu
END:VEVENT
BEGIN:VEVENT
DTSTART;VALUE=DATE:20210730
DTEND;VALUE=DATE:20210731
DTSTAMP:20260422T104128
CREATED:20210727T073444Z
LAST-MODIFIED:20210727T073444Z
UID:8941-1627603200-1627689599@www.karlovice.eu
SUMMARY:Slavnostní otevření Vzdělávacího centra VÍCE Ve mlýně Karlovice
DESCRIPTION:Srdečně zveme na slavnostní otevření Vzdělávacího centra Ve mlýně v pátek 30.7. v 16 hodin\, následuje beseda s Vladimírem Kořenem v 17 hodin ve Slezanu a koncert Večery v jednom v 19 hodin. \nVstupenky na besedu a koncert zakoupíte Ve mlýně a na poště nebo přímo na akci. Výtěžek ze vstupného bude použit na novou fasádu mlýna. Děkujeme. \n \nVyhlášeno rozhlasem: 28. 7. v 17:00 hod.\, 29. 7. v 11:00 a 17:00 hod.\, 30. 7. v 14:00 hod.
URL:https://www.karlovice.eu/udalosti/slavnostni-otevreni-vzdelavaciho-centra-vice-ve-mlyne-karlovice/
LOCATION:Moravskoslezský
END:VEVENT
BEGIN:VEVENT
DTSTART;VALUE=DATE:20210722
DTEND;VALUE=DATE:20210723
DTSTAMP:20260422T104128
CREATED:20210722T124346Z
LAST-MODIFIED:20210722T124346Z
UID:8937-1626912000-1626998399@www.karlovice.eu
SUMMARY:Přípravné utkání mužů Sokol Karlovice – SK Zátor
DESCRIPTION:Vyhlášeno rozhlasem: 22. 7. v 11:00 a 17:00 hod.\, 23. 7. v 17:00 hod.\, 24. 7. v 14:00 hod.
URL:https://www.karlovice.eu/udalosti/pripravne-utkani-muzu-sokol-karlovice-sk-zator/
LOCATION:Fotbalové hřiště Karlovice
END:VEVENT
BEGIN:VEVENT
DTSTART;VALUE=DATE:20210702
DTEND;VALUE=DATE:20210703
DTSTAMP:20260422T104128
CREATED:20210629T062845Z
LAST-MODIFIED:20210629T062845Z
UID:8922-1625184000-1625270399@www.karlovice.eu
SUMMARY:1. ročník Memoriálu IVA URBÁNKA
DESCRIPTION:
URL:https://www.karlovice.eu/udalosti/1-rocnik-memorialu-iva-urbanka/
LOCATION:Fotbalové hřiště Karlovice
ORGANIZER;CN="Sbor%20dobrovoln%C3%BDch%20hasi%C4%8D%C5%AF%20Karlovice":MAILTO:karlovicesdh@seznam.cz
END:VEVENT
BEGIN:VEVENT
DTSTART;TZID=UTC:20210530T140000
DTEND;TZID=UTC:20210530T160000
DTSTAMP:20260422T104128
CREATED:20210526T134210Z
LAST-MODIFIED:20210527T110931Z
UID:8878-1622383200-1622390400@www.karlovice.eu
SUMMARY:Dětský den
DESCRIPTION:Hlášeno rozhlasem: \nČas hlášení: 27. 5. v 17:00 hod.\, 28. 5. v 11:00 a 17:00 hod.\, 29. 5. v 15:00 hod. \n  \n 
URL:https://www.karlovice.eu/udalosti/detsky-den/
LOCATION:Fotbalové hřiště Karlovice
ORGANIZER;CN="Obec%20Karlovice":MAILTO:podatelna@karlovice.eu
END:VEVENT
BEGIN:VEVENT
DTSTART;VALUE=DATE:20210320
DTEND;VALUE=DATE:20210522
DTSTAMP:20260422T104128
CREATED:20210301T143517Z
LAST-MODIFIED:20210301T143517Z
UID:8660-1616198400-1621641599@www.karlovice.eu
SUMMARY:Výstava v Art Galerii Penzion U Řeky – Lenka Vojtěchová
DESCRIPTION:Lenka Vojtěchová\nVýstava realistických obrazů od výtvarnice se Zbraslavi u Brna.\nVýstava je prodejní\, přístupná denně po telefonické dohodě.
URL:https://www.karlovice.eu/udalosti/vystava-v-art-galerii-penzion-u-reky-lenka-vojtechova/
LOCATION:Moravskoslezský
END:VEVENT
BEGIN:VEVENT
DTSTART;VALUE=DATE:20210301
DTEND;VALUE=DATE:20210302
DTSTAMP:20260422T104128
CREATED:20210228T150536Z
LAST-MODIFIED:20210228T150536Z
UID:8596-1614556800-1614643199@www.karlovice.eu
SUMMARY:Spuštění nového webu
DESCRIPTION:S radostí Vám chceme oznámit spuštění nových webových stránek naší obce. V případě jakýchkoliv připomínek nebo návrhů se na nás neváhejte obrátit. Seznam kontaktů naleznete zde.
URL:https://www.karlovice.eu/udalosti/spusteni-noveho-webu/
LOCATION:Fotbalové hřiště Karlovice
ATTACH;FMTTYPE=image/png:https://www.karlovice.eu/wp-content/uploads/2021/02/Novy-web-nahled.png
END:VEVENT
END:VCALENDAR