BEGIN:VCALENDAR
VERSION:2.0
PRODID:-//Obec Karlovice - ECPv5.14.0.4//NONSGML v1.0//EN
CALSCALE:GREGORIAN
METHOD:PUBLISH
X-WR-CALNAME:Obec Karlovice
X-ORIGINAL-URL:https://www.karlovice.eu
X-WR-CALDESC:Akce na Obec Karlovice
REFRESH-INTERVAL;VALUE=DURATION:PT1H
X-Robots-Tag:noindex
X-PUBLISHED-TTL:PT1H
BEGIN:VTIMEZONE
TZID:UTC
BEGIN:STANDARD
TZOFFSETFROM:+0000
TZOFFSETTO:+0000
TZNAME:UTC
DTSTART:20240101T000000
END:STANDARD
END:VTIMEZONE
BEGIN:VEVENT
DTSTART;TZID=UTC:20240911T170000
DTEND;TZID=UTC:20240911T170000
DTSTAMP:20260420T141542
CREATED:20240424T161746Z
LAST-MODIFIED:20240424T161827Z
UID:10563-1726074000-1726074000@www.karlovice.eu
SUMMARY:Veřejné zasedání ZO Karlovice
DESCRIPTION:
URL:https://www.karlovice.eu/udalosti/verejne-zasedani-zo-karlovice-3/
LOCATION:Obecní dům Slezan\, Karlovice 183\, Karlovice\, Moravskoslezský\, 79323\, Česká republika
ORGANIZER;CN="Obec%20Karlovice":MAILTO:podatelna@karlovice.eu
END:VEVENT
BEGIN:VEVENT
DTSTART;TZID=UTC:20240904T080000
DTEND;TZID=UTC:20240904T190000
DTSTAMP:20260420T141542
CREATED:20240905T103408Z
LAST-MODIFIED:20240905T103549Z
UID:10822-1725436800-1725476400@www.karlovice.eu
SUMMARY:Zájezd pro seniory
DESCRIPTION:Návštěva Valašského muzea v přírodě v Rožnově pod Radhoštěm a Motýlího domu v Rudné pod Pradědem.
URL:https://www.karlovice.eu/udalosti/zajezd-pro-seniory-3/
LOCATION:Moravskoslezský
ORGANIZER;CN="Obec%20Karlovice":MAILTO:podatelna@karlovice.eu
END:VEVENT
BEGIN:VEVENT
DTSTART;TZID=UTC:20240809T100000
DTEND;TZID=UTC:20240811T000000
DTSTAMP:20260420T141542
CREATED:20240628T045116Z
LAST-MODIFIED:20240628T045116Z
UID:10730-1723197600-1723334400@www.karlovice.eu
SUMMARY:Borůvkové hody na Malajce
DESCRIPTION:Hospůdka Malajka Vás srdečně zve na tradiční Borůvkové hody\, které se budou konat 9.–11. 8. 2024 od 10:00 hodin. \nPro všechny\, co rádi mlsají budou připraveny samé dobroty z borůvek a nebude chybět ani borůvkové pivčo a borůvička. \nRezervace stolu 604 554 750. \nTěšíme se na Vaši návštěvu. \nGrecmanová Ludmila
URL:https://www.karlovice.eu/udalosti/boruvkove-hody-na-malajce/
LOCATION:Moravskoslezský
END:VEVENT
BEGIN:VEVENT
DTSTART;TZID=UTC:20240727T200000
DTEND;TZID=UTC:20240727T200000
DTSTAMP:20260420T141542
CREATED:20240628T044311Z
LAST-MODIFIED:20240628T044311Z
UID:10720-1722110400-1722110400@www.karlovice.eu
SUMMARY:Meditace pro duši a tělo
DESCRIPTION:
URL:https://www.karlovice.eu/udalosti/meditace-pro-dusi-a-telo/
LOCATION:Více Ve mlýně Karlovice\, Karlovice 421\, Karlovice\, Moravskoslezský\, 79323\, Česká republika
END:VEVENT
BEGIN:VEVENT
DTSTART;TZID=UTC:20240727T160000
DTEND;TZID=UTC:20240727T160000
DTSTAMP:20260420T141542
CREATED:20240628T044754Z
LAST-MODIFIED:20240628T044754Z
UID:10727-1722096000-1722096000@www.karlovice.eu
SUMMARY:Probouzení Rychty
DESCRIPTION:
URL:https://www.karlovice.eu/udalosti/probouzeni-rychty/
LOCATION:Moravskoslezský
END:VEVENT
BEGIN:VEVENT
DTSTART;TZID=UTC:20240701T000000
DTEND;TZID=UTC:20240831T000000
DTSTAMP:20260420T141542
CREATED:20240628T044500Z
LAST-MODIFIED:20240628T044536Z
UID:10723-1719792000-1725062400@www.karlovice.eu
SUMMARY:Léto Ve mlýně
DESCRIPTION:
URL:https://www.karlovice.eu/udalosti/jeseniky-vsemi-smysly/
LOCATION:Více Ve mlýně Karlovice\, Karlovice 421\, Karlovice\, Moravskoslezský\, 79323\, Česká republika
END:VEVENT
BEGIN:VEVENT
DTSTART;TZID=UTC:20240701T000000
DTEND;TZID=UTC:20240831T000000
DTSTAMP:20260420T141542
CREATED:20240628T044139Z
LAST-MODIFIED:20240628T044139Z
UID:10717-1719792000-1725062400@www.karlovice.eu
SUMMARY:Výstava fotografií JESENÍKY
DESCRIPTION:
URL:https://www.karlovice.eu/udalosti/vystava-fotografii-jeseniky/
LOCATION:Více Ve mlýně Karlovice\, Karlovice 421\, Karlovice\, Moravskoslezský\, 79323\, Česká republika
END:VEVENT
BEGIN:VEVENT
DTSTART;TZID=UTC:20240615T100000
DTEND;TZID=UTC:20240616T000000
DTSTAMP:20260420T141542
CREATED:20240424T163635Z
LAST-MODIFIED:20240719T091203Z
UID:10571-1718445600-1718496000@www.karlovice.eu
SUMMARY:Den obce Karlovice a Festival Karlovická kosa
DESCRIPTION:
URL:https://www.karlovice.eu/udalosti/den-obce-karlovice-a-festival-karlovicka-kosa/
LOCATION:Fotbalové hřiště Karlovice
ORGANIZER;CN="Obec%20Karlovice":MAILTO:podatelna@karlovice.eu
END:VEVENT
BEGIN:VEVENT
DTSTART;TZID=UTC:20240614T000000
DTEND;TZID=UTC:20240615T000000
DTSTAMP:20260420T141542
CREATED:20240512T233351Z
LAST-MODIFIED:20240601T045922Z
UID:10647-1718323200-1718409600@www.karlovice.eu
SUMMARY:Vernisáž soutěže Jeseníky za humny pro školy a pro veřejnost - VÍCE Ve mlýně
DESCRIPTION:
URL:https://www.karlovice.eu/udalosti/vernisaz-souteze-jeseniky-za-humny-pro-skoly-a-pro-verejnost-vice-ve-mlyne/
LOCATION:Moravskoslezský
END:VEVENT
BEGIN:VEVENT
DTSTART;TZID=UTC:20240605T170000
DTEND;TZID=UTC:20240605T170000
DTSTAMP:20260420T141542
CREATED:20240424T161602Z
LAST-MODIFIED:20240601T050424Z
UID:10561-1717606800-1717606800@www.karlovice.eu
SUMMARY:Veřejné zasedání ZO Karlovice
DESCRIPTION:Veřejné zasedání Zastupitelstva obce Karlovice proběhne ve středu 5. června 2024 od 17 hodin v Obecním domě Slezan. \n  \nProgram naleznete na úřední desce nebo v PDF souboru níže. \nPozvánka a program na zasedání 5. 6. 2024 \n  \n 
URL:https://www.karlovice.eu/udalosti/verejne-zasedani-zo-karlovice-2/
LOCATION:Obecní dům Slezan\, Karlovice 183\, Karlovice\, Moravskoslezský\, 79323\, Česká republika
ORGANIZER;CN="Obec%20Karlovice":MAILTO:podatelna@karlovice.eu
END:VEVENT
BEGIN:VEVENT
DTSTART;TZID=UTC:20240601T000000
DTEND;TZID=UTC:20240601T000000
DTSTAMP:20260420T141542
CREATED:20240512T233300Z
LAST-MODIFIED:20240512T233316Z
UID:10645-1717200000-1717200000@www.karlovice.eu
SUMMARY:Den dětí – program VÍCE Ve mlýně
DESCRIPTION:
URL:https://www.karlovice.eu/udalosti/den-deti-program-vice-ve-mlyne/
LOCATION:Moravskoslezský
END:VEVENT
BEGIN:VEVENT
DTSTART;TZID=UTC:20240531T000000
DTEND;TZID=UTC:20240531T000000
DTSTAMP:20260420T141542
CREATED:20240512T233210Z
LAST-MODIFIED:20240512T233227Z
UID:10643-1717113600-1717113600@www.karlovice.eu
SUMMARY:Den dětí – soutěže pro děti\, ZŠ Karlovice a Hasiči Karlovice
DESCRIPTION:
URL:https://www.karlovice.eu/udalosti/den-deti-souteze-pro-deti-zs-karlovice-a-hasici-karlovice/
LOCATION:Moravskoslezský
END:VEVENT
BEGIN:VEVENT
DTSTART;TZID=UTC:20240531T000000
DTEND;TZID=UTC:20240531T000000
DTSTAMP:20260420T141542
CREATED:20240512T233137Z
LAST-MODIFIED:20240512T233152Z
UID:10641-1717113600-1717113600@www.karlovice.eu
SUMMARY:Kácení májky – SDH Karlovice
DESCRIPTION:
URL:https://www.karlovice.eu/udalosti/kaceni-majky-sdh-karlovice/
LOCATION:Moravskoslezský
END:VEVENT
BEGIN:VEVENT
DTSTART;TZID=UTC:20240525T000000
DTEND;TZID=UTC:20240525T000000
DTSTAMP:20260420T141542
CREATED:20240512T233103Z
LAST-MODIFIED:20240512T233122Z
UID:10639-1716595200-1716595200@www.karlovice.eu
SUMMARY:Jarní botanická exkurze\, odemykání studánek – VÍCE Ve mlýně
DESCRIPTION:
URL:https://www.karlovice.eu/udalosti/jarni-botanicka-exkurze-odemykani-studanek-vice-ve-mlyne/
LOCATION:Moravskoslezský
END:VEVENT
BEGIN:VEVENT
DTSTART;TZID=UTC:20240519T000000
DTEND;TZID=UTC:20240519T000000
DTSTAMP:20260420T141542
CREATED:20240512T233008Z
LAST-MODIFIED:20240512T233040Z
UID:10637-1716076800-1716076800@www.karlovice.eu
SUMMARY:Žehnání včelstev – Včelařský spolek Karlovice - ZO ČSV Vrbno pod Pradědem
DESCRIPTION:
URL:https://www.karlovice.eu/udalosti/zehnani-vcelstev-vcelarsky-spolek-karlovice-zo-csv-vrbno-pod-pradedem/
LOCATION:Moravskoslezský
END:VEVENT
BEGIN:VEVENT
DTSTART;TZID=UTC:20240518T170000
DTEND;TZID=UTC:20240518T170000
DTSTAMP:20260420T141542
CREATED:20240506T110742Z
LAST-MODIFIED:20240506T110742Z
UID:10612-1716051600-1716051600@www.karlovice.eu
SUMMARY:Autorské čtení
DESCRIPTION:
URL:https://www.karlovice.eu/udalosti/autorske-cteni/
LOCATION:Více Ve mlýně Karlovice\, Karlovice 421\, Karlovice\, Moravskoslezský\, 79323\, Česká republika
END:VEVENT
BEGIN:VEVENT
DTSTART;TZID=UTC:20240518T000000
DTEND;TZID=UTC:20240518T000000
DTSTAMP:20260420T141542
CREATED:20240512T232943Z
LAST-MODIFIED:20240517T093011Z
UID:10634-1715990400-1715990400@www.karlovice.eu
SUMMARY:Den rodiny – VÍCE Ve mlýně
DESCRIPTION:
URL:https://www.karlovice.eu/udalosti/den-rodiny-vice-ve-mlyne-autorske-cteni-mirka-krcova-vice-ve-mlyne/
LOCATION:Moravskoslezský
END:VEVENT
BEGIN:VEVENT
DTSTART;TZID=UTC:20240514T150000
DTEND;TZID=UTC:20240515T170000
DTSTAMP:20260420T141542
CREATED:20240506T111112Z
LAST-MODIFIED:20240506T111112Z
UID:10618-1715698800-1715792400@www.karlovice.eu
SUMMARY:Příprava na dobrodružství
DESCRIPTION:
URL:https://www.karlovice.eu/udalosti/priprava-na-dobrodruzstvi/
LOCATION:Více Ve mlýně Karlovice\, Karlovice 421\, Karlovice\, Moravskoslezský\, 79323\, Česká republika
END:VEVENT
BEGIN:VEVENT
DTSTART;TZID=UTC:20240514T140000
DTEND;TZID=UTC:20240514T160000
DTSTAMP:20260420T141542
CREATED:20240422T135522Z
LAST-MODIFIED:20240422T135522Z
UID:10489-1715695200-1715702400@www.karlovice.eu
SUMMARY:Zápis do MŠ
DESCRIPTION:
URL:https://www.karlovice.eu/udalosti/zapis-do-ms/
LOCATION:Moravskoslezský
END:VEVENT
BEGIN:VEVENT
DTSTART;TZID=UTC:20240508T000000
DTEND;TZID=UTC:20240508T000000
DTSTAMP:20260420T141542
CREATED:20240512T232811Z
LAST-MODIFIED:20240512T232841Z
UID:10632-1715126400-1715126400@www.karlovice.eu
SUMMARY:Vítání ptačího zpěvu Karlova Studánka – VÍCE Ve mlýně
DESCRIPTION:
URL:https://www.karlovice.eu/udalosti/vitani-ptaciho-zpevu-karlova-studanka-vice-ve-mlyne/
LOCATION:Moravskoslezský
END:VEVENT
BEGIN:VEVENT
DTSTART;TZID=UTC:20240504T180000
DTEND;TZID=UTC:20240602T000000
DTSTAMP:20260420T141542
CREATED:20240422T114131Z
LAST-MODIFIED:20240424T155442Z
UID:10486-1714845600-1717286400@www.karlovice.eu
SUMMARY:Výstava "ODJINUD" IVETA A. DUČÁKOVÁ & MARTIN MATELA
DESCRIPTION:
URL:https://www.karlovice.eu/udalosti/vystava-odjinud/
LOCATION:Obecní dům Slezan\, Karlovice 183\, Karlovice\, Moravskoslezský\, 79323\, Česká republika
ORGANIZER;CN="Obec%20Karlovice":MAILTO:podatelna@karlovice.eu
END:VEVENT
BEGIN:VEVENT
DTSTART;TZID=UTC:20240502T163000
DTEND;TZID=UTC:20240502T180000
DTSTAMP:20260420T141542
CREATED:20240423T082713Z
LAST-MODIFIED:20240423T122111Z
UID:10514-1714667400-1714672800@www.karlovice.eu
SUMMARY:Veřejné projednávání studie prostranství za autobusovou zastávkou Slezan
DESCRIPTION:Ve čtvrtek 2.5.2024 v 16:30 hodin srdečně zveme občany k veřejnému projednávání studie prostranství za autobusovou zastávkou Slezan. Veřejnosti bude představena studie zpracovaná karlovickým rodákem Ing. arch. Jaromírem Walterem a jeho synem.
URL:https://www.karlovice.eu/udalosti/verejne-projednavani-studie-prostranstvi-za-autobusovou-zastavkou-slezan/
LOCATION:Obecní dům Slezan\, Karlovice 183\, Karlovice\, Moravskoslezský\, 79323\, Česká republika
ORGANIZER;CN="Obec%20Karlovice":MAILTO:podatelna@karlovice.eu
END:VEVENT
BEGIN:VEVENT
DTSTART;TZID=UTC:20240501T000000
DTEND;TZID=UTC:20240601T000000
DTSTAMP:20260420T141542
CREATED:20240506T110926Z
LAST-MODIFIED:20240506T110926Z
UID:10615-1714521600-1717200000@www.karlovice.eu
SUMMARY:Květen Ve mlýně
DESCRIPTION:
URL:https://www.karlovice.eu/udalosti/kveten-ve-mlyne/
LOCATION:Více Ve mlýně Karlovice\, Karlovice 421\, Karlovice\, Moravskoslezský\, 79323\, Česká republika
END:VEVENT
BEGIN:VEVENT
DTSTART;TZID=UTC:20240501T000000
DTEND;TZID=UTC:20240501T000000
DTSTAMP:20260420T141542
CREATED:20240512T232627Z
LAST-MODIFIED:20240512T232656Z
UID:10628-1714521600-1714521600@www.karlovice.eu
SUMMARY:Stavění májky – SDH Karlovice
DESCRIPTION:
URL:https://www.karlovice.eu/udalosti/staveni-majky-sdh-karlovice/
LOCATION:Moravskoslezský
END:VEVENT
BEGIN:VEVENT
DTSTART;TZID=UTC:20240427T160000
DTEND;TZID=UTC:20240427T160000
DTSTAMP:20260420T141542
CREATED:20240425T115223Z
LAST-MODIFIED:20240425T115223Z
UID:10576-1714233600-1714233600@www.karlovice.eu
SUMMARY:Fotbalové utkání – muži
DESCRIPTION:
URL:https://www.karlovice.eu/udalosti/fotbalove-utkani-muzi/
LOCATION:Fotbalové hřiště Karlovice
END:VEVENT
BEGIN:VEVENT
DTSTART;TZID=UTC:20240427T140000
DTEND;TZID=UTC:20240427T140000
DTSTAMP:20260420T141542
CREATED:20240423T093712Z
LAST-MODIFIED:20240423T094523Z
UID:10549-1714226400-1714226400@www.karlovice.eu
SUMMARY:Pálení čarodějnic  - Malajka
DESCRIPTION:Hospůdka Malajka vás srdečně zve na čarodějnický mejdan pro děti a dospělé.\nBude připraveno plno soutěží\, dobrot\, zábavy a cen.\nPo celý den vás bude bavit a provázet náš dobrý kamarád DJ Ronny\, který to večer nakonec rozjede naplno pro dospělé.
URL:https://www.karlovice.eu/udalosti/paleni-carodejnic-malajka/
LOCATION:Restaurace na Malajce\, Karlovice 419\, Karlovice\, Moravskoslezský\, 79323
END:VEVENT
BEGIN:VEVENT
DTSTART;TZID=UTC:20240427T130000
DTEND;TZID=UTC:20240427T130000
DTSTAMP:20260420T141542
CREATED:20240425T115341Z
LAST-MODIFIED:20240425T115341Z
UID:10580-1714222800-1714222800@www.karlovice.eu
SUMMARY:Fotbalové utkání – starší žáci
DESCRIPTION:
URL:https://www.karlovice.eu/udalosti/fotbalove-utkani-starsi-zaci/
LOCATION:Fotbalové hřiště Karlovice
END:VEVENT
BEGIN:VEVENT
DTSTART;TZID=UTC:20240427T080000
DTEND;TZID=UTC:20240427T080000
DTSTAMP:20260420T141542
CREATED:20240423T094656Z
LAST-MODIFIED:20240423T121943Z
UID:10556-1714204800-1714204800@www.karlovice.eu
SUMMARY:Záchrana Adamovského hřbitova
DESCRIPTION:
URL:https://www.karlovice.eu/udalosti/zachrana-adamovskeho-hrbitova/
LOCATION:Moravskoslezský
END:VEVENT
BEGIN:VEVENT
DTSTART;TZID=UTC:20240426T100000
DTEND;TZID=UTC:20240426T160000
DTSTAMP:20260420T141542
CREATED:20240425T142326Z
LAST-MODIFIED:20240425T142744Z
UID:10583-1714125600-1714147200@www.karlovice.eu
SUMMARY:Pálení čarodějnic na Kosárně v Karlovicích
DESCRIPTION:
URL:https://www.karlovice.eu/udalosti/paleni-carodejnic-na-kosarne-v-karlovicich/
LOCATION:Kosárna Karlovice\, Karlovice 146\, Karlovice\, Moravskoslezský\, 79323
END:VEVENT
BEGIN:VEVENT
DTSTART;TZID=UTC:20240420T080000
DTEND;TZID=UTC:20240420T150000
DTSTAMP:20260420T141542
CREATED:20240411T111140Z
LAST-MODIFIED:20240411T111140Z
UID:10450-1713600000-1713625200@www.karlovice.eu
SUMMARY:Bazárek
DESCRIPTION:
URL:https://www.karlovice.eu/udalosti/bazarek/
LOCATION:Obecní dům Slezan\, Karlovice 183\, Karlovice\, Moravskoslezský\, 79323\, Česká republika
END:VEVENT
END:VCALENDAR