BEGIN:VCALENDAR
VERSION:2.0
PRODID:-//Obec Karlovice - ECPv5.14.0.4//NONSGML v1.0//EN
CALSCALE:GREGORIAN
METHOD:PUBLISH
X-WR-CALNAME:Obec Karlovice
X-ORIGINAL-URL:https://www.karlovice.eu
X-WR-CALDESC:Akce na Obec Karlovice
REFRESH-INTERVAL;VALUE=DURATION:PT1H
X-Robots-Tag:noindex
X-PUBLISHED-TTL:PT1H
BEGIN:VTIMEZONE
TZID:UTC
BEGIN:STANDARD
TZOFFSETFROM:+0000
TZOFFSETTO:+0000
TZNAME:UTC
DTSTART:20260101T000000
END:STANDARD
END:VTIMEZONE
BEGIN:VEVENT
DTSTART;TZID=UTC:20260502T140000
DTEND;TZID=UTC:20260502T140000
DTSTAMP:20260420T141215
CREATED:20260409T085735Z
LAST-MODIFIED:20260409T085804Z
UID:12770-1777730400-1777730400@www.karlovice.eu
SUMMARY:Pálení čarodějnic na Malajce
DESCRIPTION:Přijďte s námi oslavit magický večer plný kouzel\, hudby a ohně! \n🗓 Kdy: sobota 2. května od 14:00 hod.\n📍 Kde: Karlovice 419\, Temná ulička \nVstupte do světa\, kde nic není tak\, jak se zdá… Odvaha se vyplatí! Čekají na vás strašidelné výzvy i zajímavé odměny. \n✨ Těšit se můžete na: \n\npraskající špekáčky nad ohněm\nskvělou hudbu a taneční atmosféru (DJ Ronny)\nvečer plný pohody\, zábavy a čarovné nálady\n\n🧙‍♀️ Dress code: čarodějnický\, strašidelný \nPřijďte si užít nezapomenutelný večer – těšíme se na vás! ✨
URL:https://www.karlovice.eu/udalosti/paleni-carodejnic-na-malajce-4/
LOCATION:Restaurace na Malajce\, Karlovice 419\, Karlovice\, Moravskoslezský\, 79323
END:VEVENT
BEGIN:VEVENT
DTSTART;TZID=UTC:20260425T100000
DTEND;TZID=UTC:20260425T170000
DTSTAMP:20260420T141215
CREATED:20260325T095059Z
LAST-MODIFIED:20260325T095119Z
UID:12752-1777111200-1777136400@www.karlovice.eu
SUMMARY:Sobota Ve mlýně
DESCRIPTION:
URL:https://www.karlovice.eu/udalosti/sobota-ve-mlyne-7/
LOCATION:Více Ve mlýně Karlovice\, Karlovice 421\, Karlovice\, Moravskoslezský\, 79323\, Česká republika
END:VEVENT
BEGIN:VEVENT
DTSTART;TZID=UTC:20260421T150000
DTEND;TZID=UTC:20260421T170000
DTSTAMP:20260420T141215
CREATED:20260325T095544Z
LAST-MODIFIED:20260325T095607Z
UID:12754-1776783600-1776790800@www.karlovice.eu
SUMMARY:Den Země Ve mlýně
DESCRIPTION:
URL:https://www.karlovice.eu/udalosti/den-zeme-ve-mlyne/
LOCATION:Více Ve mlýně Karlovice\, Karlovice 421\, Karlovice\, Moravskoslezský\, 79323\, Česká republika
END:VEVENT
BEGIN:VEVENT
DTSTART;TZID=UTC:20260418T100000
DTEND;TZID=UTC:20260418T170000
DTSTAMP:20260420T141215
CREATED:20260325T095018Z
LAST-MODIFIED:20260325T095045Z
UID:12750-1776506400-1776531600@www.karlovice.eu
SUMMARY:Sobota Ve mlýně
DESCRIPTION:
URL:https://www.karlovice.eu/udalosti/sobota-ve-mlyne-6/
LOCATION:Více Ve mlýně Karlovice\, Karlovice 421\, Karlovice\, Moravskoslezský\, 79323\, Česká republika
END:VEVENT
BEGIN:VEVENT
DTSTART;TZID=UTC:20260418T100000
DTEND;TZID=UTC:20260418T100000
DTSTAMP:20260420T141215
CREATED:20260116T064727Z
LAST-MODIFIED:20260303T104446Z
UID:12193-1776506400-1776506400@www.karlovice.eu
SUMMARY:Den zdraví
DESCRIPTION:  \n \nDEN ZDRAVÍ 18. 4. 2026 \nObčerstvení \nKafe ByBodlo – kávička\, něco sladkého\, zdravé bagetky a další \nVildort – smoothie\, domácí sirupy\, marmelády\, ořechy\, raw tyčinky – Vilém Simon \nÚžasné zákusky  – Lenka Novotná \nSýry z farmy – farma Bovine \nMikrozelenina –  karlovická srdcovka od Kateřiny Locků \nZdravá snídaně – Jitka Svačinová \nNabídka  : \nLR  kosmetika produkty – Marcela Pavlů – známé produkty\, které potěší i pomáhají \nAromaterapie  – Dominika Pořízková  – krásné vůně nejen pro radost ale i pro zdraví \nKorejská kosmetika Atomy – Marcela Szkanderová – objevte tajemství korejské krásy\, vyzkoušejte\, přivoňte a zažijte kvalitu\, která vás okouzlí. \nBiohacking\, detox\, omlazení – Mgr. Lenka Richter Kertisová \nMasáže – Pavlína Rektoříková 725 977 815 (nutné se předem objednat) \nBikom – B. Stroková \nÚprava nehtů\, ošetření – Monika Siderasová \nZdravotní pedikúra – Miroslava Zabloudilová – suchá (pro cukrovkáře)\, mokrá i kombinovaná \nProgram: \n8:00 hod – začátek \n8:30 – 9:30 hod – Jóga s Katkou Kočí \n10:00 – 11:00 hod – Jitka Svačinová přednáška protizánětlivé stravování (malý sál)   \n11:30-12:30 hod – pilates s Markétou Kukuczkovou \n13:00 – 14:00 hod – Jóga s Janou Spurnou  \n11:00 hod / 13:00 hod výuková vycházka – Nordic Walking s Petr Marek – ukázka správné chůze s holemi\, poradna a konzultace. \n  \nNa závěr si můžete dát opět něco dobrého\, kávičku a skvělé smoothie. \nTěšíme se na vás všechny.
URL:https://www.karlovice.eu/udalosti/den-zdravi-5/
LOCATION:Obecní dům Slezan\, Karlovice 183\, Karlovice\, Moravskoslezský\, 79323\, Česká republika
ORGANIZER;CN="Obec%20Karlovice":MAILTO:podatelna@karlovice.eu
END:VEVENT
BEGIN:VEVENT
DTSTART;TZID=UTC:20260411T100000
DTEND;TZID=UTC:20260411T170000
DTSTAMP:20260420T141215
CREATED:20260325T094905Z
LAST-MODIFIED:20260325T095002Z
UID:12748-1775901600-1775926800@www.karlovice.eu
SUMMARY:Sobota Ve mlýně
DESCRIPTION:
URL:https://www.karlovice.eu/udalosti/sobota-ve-mlyne-5/
LOCATION:Více Ve mlýně Karlovice\, Karlovice 421\, Karlovice\, Moravskoslezský\, 79323\, Česká republika
END:VEVENT
BEGIN:VEVENT
DTSTART;TZID=UTC:20260404T100000
DTEND;TZID=UTC:20260404T170000
DTSTAMP:20260420T141215
CREATED:20260330T083308Z
LAST-MODIFIED:20260330T083344Z
UID:12763-1775296800-1775322000@www.karlovice.eu
SUMMARY:Sobota Ve mlýně
DESCRIPTION:
URL:https://www.karlovice.eu/udalosti/sobota-ve-mlyne-8/
LOCATION:Více Ve mlýně Karlovice\, Karlovice 421\, Karlovice\, Moravskoslezský\, 79323\, Česká republika
END:VEVENT
BEGIN:VEVENT
DTSTART;TZID=UTC:20260402T100000
DTEND;TZID=UTC:20260402T170000
DTSTAMP:20260420T141215
CREATED:20260325T102146Z
LAST-MODIFIED:20260325T102204Z
UID:12757-1775124000-1775149200@www.karlovice.eu
SUMMARY:Zelený čtvrtek Ve mlýně
DESCRIPTION:
URL:https://www.karlovice.eu/udalosti/zeleny-ctvrtek-ve-mlyne/
LOCATION:Více Ve mlýně Karlovice\, Karlovice 421\, Karlovice\, Moravskoslezský\, 79323\, Česká republika
END:VEVENT
BEGIN:VEVENT
DTSTART;TZID=UTC:20260331T170000
DTEND;TZID=UTC:20260331T170000
DTSTAMP:20260420T141215
CREATED:20260303T104813Z
LAST-MODIFIED:20260303T104839Z
UID:12329-1774976400-1774976400@www.karlovice.eu
SUMMARY:Veřejné projednání - Studie přírodě blízké protipovodňové úpravy řeky Opavy v Karlovicích
DESCRIPTION:Termín: 31. března 2026. \nČas: od 17 hodin. \nMísto: malý sál Obecního domu Slezan.
URL:https://www.karlovice.eu/udalosti/verejne-projednani-studie-prirode-blizke-protipovodnove-upravy-reky-opavy-v-karlovicich/
LOCATION:Obecní dům Slezan\, Karlovice 183\, Karlovice\, Moravskoslezský\, 79323\, Česká republika
ORGANIZER;CN="Obec%20Karlovice":MAILTO:podatelna@karlovice.eu
END:VEVENT
BEGIN:VEVENT
DTSTART;TZID=UTC:20260321T100000
DTEND;TZID=UTC:20260321T100000
DTSTAMP:20260420T141215
CREATED:20260227T061925Z
LAST-MODIFIED:20260227T062004Z
UID:12312-1774087200-1774087200@www.karlovice.eu
SUMMARY:Den lesa a vody (VÍCE Ve mlýně)
DESCRIPTION:
URL:https://www.karlovice.eu/udalosti/den-lesa-a-vody-vice-ve-mlyne/
LOCATION:Více Ve mlýně Karlovice\, Karlovice 421\, Karlovice\, Moravskoslezský\, 79323\, Česká republika
END:VEVENT
BEGIN:VEVENT
DTSTART;TZID=UTC:20260321T090000
DTEND;TZID=UTC:20260321T150000
DTSTAMP:20260420T141215
CREATED:20260114T070150Z
LAST-MODIFIED:20260116T064547Z
UID:12174-1774083600-1774105200@www.karlovice.eu
SUMMARY:Karlovický bazárek
DESCRIPTION:Informace budou doplněny.
URL:https://www.karlovice.eu/udalosti/karlovicky-bazarek-5/
LOCATION:Obecní dům Slezan\, Karlovice 183\, Karlovice\, Moravskoslezský\, 79323\, Česká republika
ORGANIZER;CN="Obec%20Karlovice":MAILTO:podatelna@karlovice.eu
END:VEVENT
BEGIN:VEVENT
DTSTART;TZID=UTC:20260318T170000
DTEND;TZID=UTC:20260318T170000
DTSTAMP:20260420T141215
CREATED:20260114T070319Z
LAST-MODIFIED:20260114T070427Z
UID:12176-1773853200-1773853200@www.karlovice.eu
SUMMARY:Zasedání ZO Karlovice I/2026
DESCRIPTION:
URL:https://www.karlovice.eu/udalosti/zasedani-zo-karlovice/
LOCATION:Obecní dům Slezan\, Karlovice 183\, Karlovice\, Moravskoslezský\, 79323\, Česká republika
ORGANIZER;CN="Obec%20Karlovice":MAILTO:podatelna@karlovice.eu
END:VEVENT
BEGIN:VEVENT
DTSTART;TZID=UTC:20260315T140000
DTEND;TZID=UTC:20260315T180000
DTSTAMP:20260420T141215
CREATED:20260227T062420Z
LAST-MODIFIED:20260227T062515Z
UID:12318-1773583200-1773597600@www.karlovice.eu
SUMMARY:Léčivé odpoledne - OTEVŘENÉ SRDCE (VÍCE Ve mlýně)
DESCRIPTION:
URL:https://www.karlovice.eu/udalosti/lecive-odpoledne-otevrene-srdce/
LOCATION:Více Ve mlýně Karlovice\, Karlovice 421\, Karlovice\, Moravskoslezský\, 79323\, Česká republika
END:VEVENT
BEGIN:VEVENT
DTSTART;TZID=UTC:20260314T150000
DTEND;TZID=UTC:20260314T150000
DTSTAMP:20260420T141215
CREATED:20260119T105808Z
LAST-MODIFIED:20260119T105831Z
UID:12209-1773500400-1773500400@www.karlovice.eu
SUMMARY:Workshop - Jarní květinové tvoření
DESCRIPTION:Srdečně vás zveme na kreativní workshop jarního květinového tvoření\, kde si užijete příjemné odpoledne plné květin\, vůní a jarní atmosféry. \n🌿 Společně si vytvoříme jarní dekoraci do interiéru\, která vám domů přinese kousek probouzející se přírody. \n\n🗓 Kdy: sobota 14. 3. 2026🕒 Čas: 15:00📍 Kde: Obecní dům Slezan\, Karlovice \n👩‍🎨 Tvořením vás provede floristka Veronika Klímová z ateliéru Všudekytky. \n\n📌 Rezervace je nutná předem nejpozději do 6. 3. 2026 na tel.: 📞 720 969 888📧 info@vsudekytky.cz \n💐 Cena: 400 Kč (splatná na místě)☕ Občerstvení zajištěno👥 Minimální počet účastníků: 10 \nWorkshop probíhá ve spolupráci s obcí Karlovice. \n 
URL:https://www.karlovice.eu/udalosti/workshop-jarni-kvetinove-tvoreni/
LOCATION:Obecní dům Slezan\, Karlovice 183\, Karlovice\, Moravskoslezský\, 79323\, Česká republika
END:VEVENT
BEGIN:VEVENT
DTSTART;TZID=UTC:20260311T150000
DTEND;TZID=UTC:20260311T150000
DTSTAMP:20260420T141215
CREATED:20260204T080158Z
LAST-MODIFIED:20260204T080338Z
UID:12268-1773241200-1773241200@www.karlovice.eu
SUMMARY:Veřejné projednání Návrhu regulačního plánu Karlovice RP.1
DESCRIPTION:Městský úřad Bruntál\, odbor výstavby a územního plánování\, jako pořizovatel regulačního plánu\, zve veřejnost na veřejné projednání návrhu Regulačního plánu Karlovice RP.1. \n📅 Kdy:\nstředa 11. března 2026 od 15:00 hodin \n📍 Kde:\nmalý sál Obecního domu Slezan\, Karlovice 183 \nℹ️ O čem:\nPředmětem veřejného projednání je návrh Regulačního plánu Karlovice RP.1\, zpracovaný formou opatření obecné povahy. \n📄 K nahlédnutí:\nNávrh regulačního plánu je vystaven k veřejnému nahlédnutí v období\nod 4. 2. 2026 do 26. 3. 2026 \n\nna webových stránkách Města Bruntál\nna webových stránkách obce Karlovice https://www.karlovice.eu/regulacni-plan-obce/\nna Městském úřadě Bruntál\, odboru výstavby a územního plánování https://www.mubruntal.cz\nna Městském úřadě Bruntál\, odboru výstavby a územního plánování\, Nádražní 994/20\, 792 01 Bruntál\, budova „A“\, 5. patro\, kancelář č. 508\,\nna Obecním úřadě Karlovice\, Karlovice 183\, 793 23\n\n✍️ Připomínky:\nKaždý může do 15 dnů ode dne konání veřejného projednání uplatnit k návrhu písemné připomínky. Připomínky musí být odůvodněné a musí z nich být zřejmé\, jakého území se týkají. \nPřipomínky lze zaslat: \n\nprostřednictvím datové schránky Městského úřadu Bruntál\nnebo poštou na adresu Městského úřadu Bruntál\, odboru výstavby a územního plánování
URL:https://www.karlovice.eu/udalosti/verejne-projednavani-navrhu-regulacniho-planu-karlovice-rp-1/
LOCATION:Obecní dům Slezan\, Karlovice 183\, Karlovice\, Moravskoslezský\, 79323\, Česká republika
END:VEVENT
BEGIN:VEVENT
DTSTART;TZID=UTC:20260307T190000
DTEND;TZID=UTC:20260307T190000
DTSTAMP:20260420T141215
CREATED:20260114T055633Z
LAST-MODIFIED:20260114T055706Z
UID:12172-1772910000-1772910000@www.karlovice.eu
SUMMARY:Obecní ples
DESCRIPTION:Informace budou doplněny.
URL:https://www.karlovice.eu/udalosti/obecni-ples-2/
LOCATION:Obecní dům Slezan\, Karlovice 183\, Karlovice\, Moravskoslezský\, 79323\, Česká republika
ORGANIZER;CN="Obec%20Karlovice":MAILTO:podatelna@karlovice.eu
END:VEVENT
BEGIN:VEVENT
DTSTART;TZID=UTC:20260228T100000
DTEND;TZID=UTC:20260228T170000
DTSTAMP:20260420T141215
CREATED:20260126T100553Z
LAST-MODIFIED:20260126T100621Z
UID:12227-1772272800-1772298000@www.karlovice.eu
SUMMARY:Sobota Ve mlýně
DESCRIPTION:
URL:https://www.karlovice.eu/udalosti/sobota-ve-mlyne-4/
LOCATION:Více Ve mlýně Karlovice\, Karlovice 421\, Karlovice\, Moravskoslezský\, 79323\, Česká republika
END:VEVENT
BEGIN:VEVENT
DTSTART;TZID=UTC:20260224T150000
DTEND;TZID=UTC:20260224T170000
DTSTAMP:20260420T141215
CREATED:20260126T101858Z
LAST-MODIFIED:20260126T101923Z
UID:12236-1771945200-1771952400@www.karlovice.eu
SUMMARY:Odpoledne Ve mlýně
DESCRIPTION:
URL:https://www.karlovice.eu/udalosti/odpoledne-ve-mlyne-4/
LOCATION:Více Ve mlýně Karlovice\, Karlovice 421\, Karlovice\, Moravskoslezský\, 79323\, Česká republika
END:VEVENT
BEGIN:VEVENT
DTSTART;TZID=UTC:20260221T140000
DTEND;TZID=UTC:20260221T140000
DTSTAMP:20260420T141215
CREATED:20260127T102811Z
LAST-MODIFIED:20260219T103542Z
UID:12242-1771682400-1771682400@www.karlovice.eu
SUMMARY:Velikonoční zdobení perníčků - ZRUŠENO
DESCRIPTION:Edit: Pro nízký zájem se tato akce ruší. \nSrdečně vás zveme na tvořivý kurz velikonočního zdobení perníčků\, který proběhne pod vedením Hany Sovové z Ostravy. \n📅 Datum: 21. 2. 2026\n🕑 Čas: od 14:00 hod.\n📍 Místo: Malý sál Obecního domu Slezan\, Karlovice \n🕒 Délka kurzu: 4–5 hodin\n💰 Vstupné: 1 000 Kč \n✨ V ceně kurzu je zahrnuto: \n\ndrobné občerstvení\nrecepty\ncukrářské štětce\, jehly\, sáčky a poleva\n3 perníčky ke zdobení (cca 10 cm)\n\nPřijďte si užít příjemné odpoledne plné kreativity\, velikonoční atmosféry a sladkého tvoření. Kurz je vhodný pro všechny bez ohledu na předchozí zkušenosti. \n📞 Bližší informace:\nNada Paňáková\, tel. 777 912 464 \nTěšíme se na vás! 🐣🍪
URL:https://www.karlovice.eu/udalosti/velikonocni-zdobeni-pernicku/
LOCATION:Obecní dům Slezan\, Karlovice 183\, Karlovice\, Moravskoslezský\, 79323\, Česká republika
END:VEVENT
BEGIN:VEVENT
DTSTART;TZID=UTC:20260221T100000
DTEND;TZID=UTC:20260221T170000
DTSTAMP:20260420T141215
CREATED:20260126T100510Z
LAST-MODIFIED:20260126T100530Z
UID:12225-1771668000-1771693200@www.karlovice.eu
SUMMARY:Sobota Ve mlýně
DESCRIPTION:
URL:https://www.karlovice.eu/udalosti/sobota-ve-mlyne-3/
LOCATION:Moravskoslezský
END:VEVENT
BEGIN:VEVENT
DTSTART;TZID=UTC:20260221T100000
DTEND;TZID=UTC:20260221T100000
DTSTAMP:20260420T141215
CREATED:20260114T055531Z
LAST-MODIFIED:20260116T064458Z
UID:12170-1771668000-1771668000@www.karlovice.eu
SUMMARY:Vítání občánků
DESCRIPTION:Vítání občánků se uskuteční v sobotu 21. 2. 2026 od 10 hod. v malém sále Obecního domu Slezan.
URL:https://www.karlovice.eu/udalosti/vitani-obcanku-2/
LOCATION:Obecní dům Slezan\, Karlovice 183\, Karlovice\, Moravskoslezský\, 79323\, Česká republika
END:VEVENT
BEGIN:VEVENT
DTSTART;TZID=UTC:20260220T160000
DTEND;TZID=UTC:20260220T180000
DTSTAMP:20260420T141215
CREATED:20260212T055517Z
LAST-MODIFIED:20260212T060703Z
UID:12292-1771603200-1771610400@www.karlovice.eu
SUMMARY:Maškarní bál
DESCRIPTION:Srdečně vás zveme na Maškarní bál\, který se uskuteční: \n📅 v pátek 20. února 2026\,🕓 od 16:00 do 18:00 hod.\,📍 v Obecním domě Slezan. \nBudeme si hrát na karneval – kdo pak by se masek bál?Ať jste malí nebo velcí\, všichni budeme trochu herci! \nČeká vás bohatý program\, soutěže\, tombola\, dobré pití i něco na zakousnutí.Masky si nasadíme a tuze se pobavíme – veselé bytí zaručeno! \n🎟️ Vstupné dobrovolné🎭 Masky vítány i v doprovodu \nNa vaši účast se těší pořadatelé ZŠ a MŠ Karlovice\, obec Karlovice a KRPŠ.
URL:https://www.karlovice.eu/udalosti/maskarni-bal/
LOCATION:Obecní dům Slezan\, Karlovice 183\, Karlovice\, Moravskoslezský\, 79323\, Česká republika
END:VEVENT
BEGIN:VEVENT
DTSTART;TZID=UTC:20260217T150000
DTEND;TZID=UTC:20260217T170000
DTSTAMP:20260420T141215
CREATED:20260126T101800Z
LAST-MODIFIED:20260126T101825Z
UID:12234-1771340400-1771347600@www.karlovice.eu
SUMMARY:Odpoledne Ve mlýně
DESCRIPTION:
URL:https://www.karlovice.eu/udalosti/odpoledne-ve-mlyne-3/
LOCATION:Více Ve mlýně Karlovice\, Karlovice 421\, Karlovice\, Moravskoslezský\, 79323\, Česká republika
END:VEVENT
BEGIN:VEVENT
DTSTART;TZID=UTC:20260214T100000
DTEND;TZID=UTC:20260214T170000
DTSTAMP:20260420T141215
CREATED:20260126T100405Z
LAST-MODIFIED:20260126T100443Z
UID:12223-1771063200-1771088400@www.karlovice.eu
SUMMARY:Sobota Ve mlýně
DESCRIPTION:
URL:https://www.karlovice.eu/udalosti/sobota-ve-mlyne-2/
LOCATION:Více Ve mlýně Karlovice\, Karlovice 421\, Karlovice\, Moravskoslezský\, 79323\, Česká republika
END:VEVENT
BEGIN:VEVENT
DTSTART;TZID=UTC:20260210T150000
DTEND;TZID=UTC:20260210T170000
DTSTAMP:20260420T141215
CREATED:20260126T101658Z
LAST-MODIFIED:20260126T101733Z
UID:12231-1770735600-1770742800@www.karlovice.eu
SUMMARY:Odpoledne Ve mlýně
DESCRIPTION:
URL:https://www.karlovice.eu/udalosti/odpoledne-ve-mlyne-2/
LOCATION:Více Ve mlýně Karlovice\, Karlovice 421\, Karlovice\, Moravskoslezský\, 79323\, Česká republika
END:VEVENT
BEGIN:VEVENT
DTSTART;TZID=UTC:20260207T100000
DTEND;TZID=UTC:20260207T170000
DTSTAMP:20260420T141215
CREATED:20260126T100059Z
LAST-MODIFIED:20260126T100148Z
UID:12220-1770458400-1770483600@www.karlovice.eu
SUMMARY:Sobota Ve mlýně
DESCRIPTION:
URL:https://www.karlovice.eu/udalosti/sobota-ve-mlyne/
LOCATION:Více Ve mlýně Karlovice\, Karlovice 421\, Karlovice\, Moravskoslezský\, 79323\, Česká republika
END:VEVENT
BEGIN:VEVENT
DTSTART;TZID=UTC:20260207T100000
DTEND;TZID=UTC:20260207T100000
DTSTAMP:20260420T141215
CREATED:20260126T094723Z
LAST-MODIFIED:20260126T094807Z
UID:12216-1770458400-1770458400@www.karlovice.eu
SUMMARY:Den mokřadů
DESCRIPTION:
URL:https://www.karlovice.eu/udalosti/den-mokradu/
LOCATION:Více Ve mlýně Karlovice\, Karlovice 421\, Karlovice\, Moravskoslezský\, 79323\, Česká republika
END:VEVENT
BEGIN:VEVENT
DTSTART;TZID=UTC:20260203T150000
DTEND;TZID=UTC:20260203T170000
DTSTAMP:20260420T141215
CREATED:20260126T100747Z
LAST-MODIFIED:20260126T100837Z
UID:12229-1770130800-1770138000@www.karlovice.eu
SUMMARY:Odpoledne Ve mlýně
DESCRIPTION:
URL:https://www.karlovice.eu/udalosti/odpoledne-ve-mlyne/
LOCATION:Více Ve mlýně Karlovice\, Karlovice 421\, Karlovice\, Moravskoslezský\, 79323\, Česká republika
END:VEVENT
BEGIN:VEVENT
DTSTART;TZID=UTC:20260124T140000
DTEND;TZID=UTC:20260124T180000
DTSTAMP:20260420T141215
CREATED:20251217T105852Z
LAST-MODIFIED:20251217T105919Z
UID:12155-1769263200-1769277600@www.karlovice.eu
SUMMARY:Otevřené srdce - léčivé odpoledne Ve mlýně
DESCRIPTION:
URL:https://www.karlovice.eu/udalosti/otevrene-srdce-lecive-odpoledne-ve-mlyne/
LOCATION:Více Ve mlýně Karlovice\, Karlovice 421\, Karlovice\, Moravskoslezský\, 79323\, Česká republika
END:VEVENT
BEGIN:VEVENT
DTSTART;TZID=UTC:20260123T193000
DTEND;TZID=UTC:20260123T193000
DTSTAMP:20260420T141215
CREATED:20251217T102018Z
LAST-MODIFIED:20251217T102319Z
UID:12151-1769196600-1769196600@www.karlovice.eu
SUMMARY:Myslivecký ples
DESCRIPTION:Myslivecký spolek PRADĚD\, z.s. Vrbno pod Pradědem Vás srdečně zve na tradiční\, již 7. myslivecký ples\, který se bude konat: \n\nKdy: 23. ledna 2026\nKde: Obecní dům Slezan v Karlovicích\nZačátek: 19:30 hod.\n\nProgram a zábava\n\nK tanci a poslechu hraje skupina AXEL z Olomouce.\nPřipraveno je občerstvení v podobě zvěřinového guláše.\nTěšit se můžete na bohatou tombolu.\n\nVstupenky\nPředprodej vstupenek s místenkou v ceně 300\,- Kč probíhá od 15. prosince 2025 na těchto místech: \n\nKulturní\, informační a vzdělávací centrum Vrbno\, p.o. (Střecha)\n\nTelefon: +420 554 295 195\, 605 291 147\nE-mail: kultura@kiv-vrbno.cz\nProdejní doba: 8:00 – 15:00 hod\n\n\nTuristické informační centrum Vrbno\n\nTelefon: +420 554 751 585\nE-mail: info@tic-vrbno.cz\nProdejní doba: Po – Čt 8:30 – 12:00 a 13:00 – 16:00 hod\n\n\n\nPoznámka: Změna termínu je vyhrazena. \nTěší se na Vás vrbenská myslivost! \nTato akce je pořádána s podporou Města Vrbno pod Pradědem. \n 
URL:https://www.karlovice.eu/udalosti/myslivecky-ples-3/
LOCATION:Obecní dům Slezan\, Karlovice 183\, Karlovice\, Moravskoslezský\, 79323\, Česká republika
END:VEVENT
END:VCALENDAR