BEGIN:VCALENDAR
VERSION:2.0
PRODID:-//Obec Karlovice - ECPv5.14.0.4//NONSGML v1.0//EN
CALSCALE:GREGORIAN
METHOD:PUBLISH
X-WR-CALNAME:Obec Karlovice
X-ORIGINAL-URL:https://www.karlovice.eu
X-WR-CALDESC:Akce na Obec Karlovice
REFRESH-INTERVAL;VALUE=DURATION:PT1H
X-Robots-Tag:noindex
X-PUBLISHED-TTL:PT1H
BEGIN:VTIMEZONE
TZID:UTC
BEGIN:STANDARD
TZOFFSETFROM:+0000
TZOFFSETTO:+0000
TZNAME:UTC
DTSTART:20210101T000000
END:STANDARD
END:VTIMEZONE
BEGIN:VEVENT
DTSTART;VALUE=DATE:20210320
DTEND;VALUE=DATE:20210522
DTSTAMP:20260423T174209
CREATED:20210301T143517Z
LAST-MODIFIED:20210301T143517Z
UID:8660-1616198400-1621641599@www.karlovice.eu
SUMMARY:Výstava v Art Galerii Penzion U Řeky – Lenka Vojtěchová
DESCRIPTION:Lenka Vojtěchová\nVýstava realistických obrazů od výtvarnice se Zbraslavi u Brna.\nVýstava je prodejní\, přístupná denně po telefonické dohodě.
URL:https://www.karlovice.eu/udalosti/vystava-v-art-galerii-penzion-u-reky-lenka-vojtechova/
LOCATION:Moravskoslezský
END:VEVENT
BEGIN:VEVENT
DTSTART;VALUE=DATE:20210301
DTEND;VALUE=DATE:20210302
DTSTAMP:20260423T174209
CREATED:20210228T150536Z
LAST-MODIFIED:20210228T150536Z
UID:8596-1614556800-1614643199@www.karlovice.eu
SUMMARY:Spuštění nového webu
DESCRIPTION:S radostí Vám chceme oznámit spuštění nových webových stránek naší obce. V případě jakýchkoliv připomínek nebo návrhů se na nás neváhejte obrátit. Seznam kontaktů naleznete zde.
URL:https://www.karlovice.eu/udalosti/spusteni-noveho-webu/
LOCATION:Fotbalové hřiště Karlovice
ATTACH;FMTTYPE=image/png:https://www.karlovice.eu/wp-content/uploads/2021/02/Novy-web-nahled.png
END:VEVENT
END:VCALENDAR