BEGIN:VCALENDAR
VERSION:2.0
PRODID:-//Obec Karlovice - ECPv5.14.0.4//NONSGML v1.0//EN
CALSCALE:GREGORIAN
METHOD:PUBLISH
X-WR-CALNAME:Obec Karlovice
X-ORIGINAL-URL:https://www.karlovice.eu
X-WR-CALDESC:Akce na Obec Karlovice
REFRESH-INTERVAL;VALUE=DURATION:PT1H
X-Robots-Tag:noindex
X-PUBLISHED-TTL:PT1H
BEGIN:VTIMEZONE
TZID:UTC
BEGIN:STANDARD
TZOFFSETFROM:+0000
TZOFFSETTO:+0000
TZNAME:UTC
DTSTART:20220101T000000
END:STANDARD
END:VTIMEZONE
BEGIN:VEVENT
DTSTART;TZID=UTC:20220515T150000
DTEND;TZID=UTC:20220515T180000
DTSTAMP:20260423T201848
CREATED:20220505T053614Z
LAST-MODIFIED:20220505T053614Z
UID:9358-1652626800-1652637600@www.karlovice.eu
SUMMARY:DEN RODINY – odpoledne plné her
DESCRIPTION:DEN RODINY – odpoledne plné her \nneděle 15.5.2022 od 15 do 18 hodin \nVzdělávací centrum Ve mlýně Karlovice \nTurnaj v pétanque\, soutěže pro děti\, deskové hry\, autorské čtení.\nObčerstvení zajištěno. Pořádáme ve spolupráci se spolkem Kominíček Karlovice.
URL:https://www.karlovice.eu/udalosti/den-rodiny-odpoledne-plne-her/
LOCATION:Moravskoslezský
END:VEVENT
BEGIN:VEVENT
DTSTART;TZID=UTC:20220515T170000
DTEND;TZID=UTC:20220515T170000
DTSTAMP:20260423T201848
CREATED:20220505T053900Z
LAST-MODIFIED:20220505T053900Z
UID:9360-1652634000-1652634000@www.karlovice.eu
SUMMARY:MILUJU JESENÍKY – autorské čtení
DESCRIPTION:MILUJU JESENÍKY – autorské čtení \nneděle 15. 5. 2022 v 17 hodin \nVzdělávací centrum Ve mlýně Karlovice \nPovídání a autorské čtení s jesenickou spisovatelkou Miroslavou Krčovou\, která si říká Jesenická Maryška. Narodila se a dětství prožila právě v Karlovicích\, a to v Kosárně\, její babička byla paní Pelánová. Je absolventkou pedagogické fakulty Univerzity Palackého v Olomouci. Psaní na svůj blog začala v roce 2014 jako milovnice Jeseníků\, ve kterých žije celý život\, a je v nich trvale a pevně zakořeněna. Příroda ji inspiruje a nabíjí. Zatím vydala dvě knihy – Miluju Jeseníky a Jesenická Maryška v New Yorku.\nKe svému vyjádření používá hlavně humor a nadsázku.
URL:https://www.karlovice.eu/udalosti/miluju-jeseniky-autorske-cteni/
LOCATION:Moravskoslezský
END:VEVENT
BEGIN:VEVENT
DTSTART;TZID=UTC:20220521T000000
DTEND;TZID=UTC:20220722T000000
DTSTAMP:20260423T201848
CREATED:20220628T062339Z
LAST-MODIFIED:20220628T062339Z
UID:9468-1653091200-1658448000@www.karlovice.eu
SUMMARY:Výstava – Lenka Klofáčová Pavézková
DESCRIPTION:
URL:https://www.karlovice.eu/udalosti/vystava-lenka-klofacova-pavezkova/
LOCATION:Pension U řeky\, Karlovice 209\, Karlovice\, 79323\, Česká republika
END:VEVENT
BEGIN:VEVENT
DTSTART;TZID=UTC:20220524T150000
DTEND;TZID=UTC:20220524T170000
DTSTAMP:20260423T201848
CREATED:20220505T053351Z
LAST-MODIFIED:20220505T053351Z
UID:9356-1653404400-1653411600@www.karlovice.eu
SUMMARY:EVROPSKÝ DEN PARKŮ
DESCRIPTION:EVROPSKÝ DEN PARKŮ \núterý 24. 5. 2022\, od 15 do 17 hodin \nVzdělávací centrum Ve mlýně Karlovice \nVenkovní program. Poznávání stromů\, povídání o lese. V případě deště budeme tvořit Ve mlýně.
URL:https://www.karlovice.eu/udalosti/evropsky-den-parku/
LOCATION:Moravskoslezský
END:VEVENT
BEGIN:VEVENT
DTSTART;TZID=UTC:20220528T170000
DTEND;TZID=UTC:20220528T170000
DTSTAMP:20260423T201848
CREATED:20220526T123210Z
LAST-MODIFIED:20220526T123210Z
UID:9400-1653757200-1653757200@www.karlovice.eu
SUMMARY:Zápas Karlovice – Krásné Loučky
DESCRIPTION:
URL:https://www.karlovice.eu/udalosti/zapas-karlovice-krasne-loucky/
LOCATION:Moravskoslezský
END:VEVENT
BEGIN:VEVENT
DTSTART;TZID=UTC:20220529T140000
DTEND;TZID=UTC:20220529T140000
DTSTAMP:20260423T201848
CREATED:20220526T122344Z
LAST-MODIFIED:20220526T122344Z
UID:9397-1653832800-1653832800@www.karlovice.eu
SUMMARY:Dětský den
DESCRIPTION:
URL:https://www.karlovice.eu/udalosti/detsky-den-2/
LOCATION:Moravskoslezský
END:VEVENT
BEGIN:VEVENT
DTSTART;TZID=UTC:20220618T100000
DTEND;TZID=UTC:20220618T100000
DTSTAMP:20260423T201848
CREATED:20220606T053325Z
LAST-MODIFIED:20220606T053325Z
UID:9435-1655546400-1655546400@www.karlovice.eu
SUMMARY:Den obce Karlovice
DESCRIPTION:
URL:https://www.karlovice.eu/udalosti/den-obce-karlovice/
LOCATION:Fotbalové hřiště Karlovice
ORGANIZER;CN="Obec%20Karlovice":MAILTO:podatelna@karlovice.eu
END:VEVENT
BEGIN:VEVENT
DTSTART;TZID=UTC:20220629T150000
DTEND;TZID=UTC:20220629T150000
DTSTAMP:20260423T201848
CREATED:20220628T061251Z
LAST-MODIFIED:20220628T061251Z
UID:9459-1656514800-1656514800@www.karlovice.eu
SUMMARY:Rybářská soutěž
DESCRIPTION:
URL:https://www.karlovice.eu/udalosti/rybarska-soutez/
LOCATION:Moravskoslezský
END:VEVENT
BEGIN:VEVENT
DTSTART;TZID=UTC:20220630T100000
DTEND;TZID=UTC:20220630T160000
DTSTAMP:20260423T201848
CREATED:20220628T061126Z
LAST-MODIFIED:20220628T061126Z
UID:9456-1656583200-1656604800@www.karlovice.eu
SUMMARY:Přivítání prázdnin
DESCRIPTION:
URL:https://www.karlovice.eu/udalosti/privitani-prazdnin/
LOCATION:Moravskoslezský
END:VEVENT
BEGIN:VEVENT
DTSTART;TZID=UTC:20220701T000000
DTEND;TZID=UTC:20220831T000000
DTSTAMP:20260423T201848
CREATED:20220628T061822Z
LAST-MODIFIED:20220628T061822Z
UID:9462-1656633600-1661904000@www.karlovice.eu
SUMMARY:Prázdniny ve mlýně
DESCRIPTION:
URL:https://www.karlovice.eu/udalosti/prazdniny-ve-mlyne/
LOCATION:Moravskoslezský
END:VEVENT
BEGIN:VEVENT
DTSTART;TZID=UTC:20220702T220000
DTEND;TZID=UTC:20220702T220000
DTSTAMP:20260423T201848
CREATED:20220628T060924Z
LAST-MODIFIED:20220628T060924Z
UID:9452-1656799200-1656799200@www.karlovice.eu
SUMMARY:II. ročník Memoriálu Iva Urbánka\, V. ročník O pohár starosty obce Karlovice
DESCRIPTION:
URL:https://www.karlovice.eu/udalosti/ii-rocnik-memorialu-iva-urbanka-v-rocnik-o-pohar-starosty-obce-karlovice/
LOCATION:Fotbalové hřiště Karlovice
ORGANIZER;CN="Sbor%20dobrovoln%C3%BDch%20hasi%C4%8D%C5%AF%20Karlovice":MAILTO:karlovicesdh@seznam.cz
END:VEVENT
BEGIN:VEVENT
DTSTART;TZID=UTC:20220709T110000
DTEND;TZID=UTC:20220709T110000
DTSTAMP:20260423T201848
CREATED:20220628T063610Z
LAST-MODIFIED:20220628T063610Z
UID:9476-1657364400-1657364400@www.karlovice.eu
SUMMARY:Oslavy k 30. výročí otevření Hospůdky Malajky
DESCRIPTION:Srdečně vás zveme na oslavu krásného 30. výročí Hospůdky Malajky\, která proběhne v sobotu 9. července od 11 hodin. Můžete se těšit na den plný zábavy\, hudby\, grilování a dalšího skvělého jídla. Navštíví nás také Helenka s koníky a pro děti bude na louce připraveno překvapení. Od 19 hodin zahraje kapela The Beatles Collection band. Vstupné 30 Kč. Těšíme se na vás a děkujeme za podporu\, kterou od vás dlouhá léta máme. Ludmila Grecmanová
URL:https://www.karlovice.eu/udalosti/oslavy-k-30-vyroci-otevreni-hospudky-malajky/
LOCATION:Moravskoslezský
END:VEVENT
BEGIN:VEVENT
DTSTART;TZID=UTC:20220723T000000
DTEND;TZID=UTC:20220916T000000
DTSTAMP:20260423T201848
CREATED:20220628T062135Z
LAST-MODIFIED:20220628T062135Z
UID:9465-1658534400-1663286400@www.karlovice.eu
SUMMARY:Výstava Karla Dokoupila
DESCRIPTION:
URL:https://www.karlovice.eu/udalosti/vystava-karla-dokoupila/
LOCATION:Pension U řeky\, Karlovice 209\, Karlovice\, 79323\, Česká republika
END:VEVENT
BEGIN:VEVENT
DTSTART;TZID=UTC:20220730T140000
DTEND;TZID=UTC:20220730T180000
DTSTAMP:20260423T201848
CREATED:20220728T121518Z
LAST-MODIFIED:20220728T121819Z
UID:9492-1659189600-1659204000@www.karlovice.eu
SUMMARY:FAJNE LÉTO
DESCRIPTION:
URL:https://www.karlovice.eu/udalosti/fajne-leto/
LOCATION:Moravskoslezský
END:VEVENT
BEGIN:VEVENT
DTSTART;TZID=UTC:20220813T150000
DTEND;TZID=UTC:20220813T150000
DTSTAMP:20260423T201848
CREATED:20220808T112358Z
LAST-MODIFIED:20220808T112358Z
UID:9508-1660402800-1660402800@www.karlovice.eu
SUMMARY:Fotbalové utkání
DESCRIPTION:
URL:https://www.karlovice.eu/udalosti/fotbalove-utkani/
LOCATION:Fotbalové hřiště Karlovice
END:VEVENT
BEGIN:VEVENT
DTSTART;TZID=UTC:20220827T163000
DTEND;TZID=UTC:20220827T163000
DTSTAMP:20260423T201848
CREATED:20220826T082318Z
LAST-MODIFIED:20220826T082318Z
UID:9523-1661617800-1661617800@www.karlovice.eu
SUMMARY:Okresní přebor Karlovice – Dolní Moravice
DESCRIPTION:
URL:https://www.karlovice.eu/udalosti/okresni-prebor-karlovice-dolni-moravice/
LOCATION:Fotbalové hřiště Karlovice
END:VEVENT
BEGIN:VEVENT
DTSTART;VALUE=DATE:20220907
DTEND;VALUE=DATE:20220908
DTSTAMP:20260423T201848
CREATED:20220829T065903Z
LAST-MODIFIED:20220829T065903Z
UID:9526-1662508800-1662595199@www.karlovice.eu
SUMMARY:Zájezd pro seniory
DESCRIPTION:
URL:https://www.karlovice.eu/udalosti/zajezd-pro-seniory-2/
LOCATION:Moravskoslezský
ORGANIZER;CN="Obec%20Karlovice":MAILTO:podatelna@karlovice.eu
END:VEVENT
BEGIN:VEVENT
DTSTART;TZID=UTC:20220910T160000
DTEND;TZID=UTC:20220910T160000
DTSTAMP:20260423T201848
CREATED:20220909T124627Z
LAST-MODIFIED:20220909T124627Z
UID:9533-1662825600-1662825600@www.karlovice.eu
SUMMARY:Mistrovské utkání Karlovice – Stará Ves
DESCRIPTION:
URL:https://www.karlovice.eu/udalosti/mistrovske-utkani-karlovice-stara-ves/
LOCATION:Fotbalové hřiště Karlovice
END:VEVENT
BEGIN:VEVENT
DTSTART;TZID=UTC:20220915T000000
DTEND;TZID=UTC:20221125T000000
DTSTAMP:20260423T201848
CREATED:20221019T060114Z
LAST-MODIFIED:20221019T060114Z
UID:9603-1663200000-1669334400@www.karlovice.eu
SUMMARY:Výstava Jiří Salajka a Pavel Sasín
DESCRIPTION:
URL:https://www.karlovice.eu/udalosti/vystava-jiri-salajka-a-pavel-sasin/
LOCATION:Pension U řeky\, Karlovice 209\, Karlovice\, 79323\, Česká republika
END:VEVENT
BEGIN:VEVENT
DTSTART;TZID=UTC:20220924T143000
DTEND;TZID=UTC:20220924T143000
DTSTAMP:20260423T201848
CREATED:20220923T113900Z
LAST-MODIFIED:20220923T113900Z
UID:9563-1664029800-1664029800@www.karlovice.eu
SUMMARY:Okresní přebor Karlovice – Osoblaha
DESCRIPTION:
URL:https://www.karlovice.eu/udalosti/okresni-prebor-karlovice-osoblaha/
LOCATION:Fotbalové hřiště Karlovice
END:VEVENT
BEGIN:VEVENT
DTSTART;TZID=UTC:20221015T150000
DTEND;TZID=UTC:20221015T150000
DTSTAMP:20260423T201848
CREATED:20221014T113604Z
LAST-MODIFIED:20221014T113604Z
UID:9592-1665846000-1665846000@www.karlovice.eu
SUMMARY:Mistrovské utkání
DESCRIPTION:Sokol Karlovice Vás srdečně zve na mistrovské utkání okresního přeboru mužů proti Hornímu Benešovu\, které se uskuteční v sobotu 15. 10. 2022 v 15:00 hodin na fotbalovém hřišti. Předzápasem mužů bude utkání starších žáků\, kteří přivítají od 12:00 hod.  Břidličnou. Občerstvení zajištěno. \n  \nVyhlášeno rozhlasem: 13.10. v 16:00 hod.\, 14.10. v 16:00 hod. a 15.10. v 11:00 hod.
URL:https://www.karlovice.eu/udalosti/mistrovske-utkani/
LOCATION:Fotbalové hřiště Karlovice
END:VEVENT
BEGIN:VEVENT
DTSTART;TZID=UTC:20221022T090000
DTEND;TZID=UTC:20221022T160000
DTSTAMP:20260423T201848
CREATED:20220923T114032Z
LAST-MODIFIED:20220923T114032Z
UID:9566-1666429200-1666454400@www.karlovice.eu
SUMMARY:Podzimní bazárek
DESCRIPTION:
URL:https://www.karlovice.eu/udalosti/podzimni-bazarek/
LOCATION:Obecní dům Slezan\, Karlovice 183\, Karlovice\, Moravskoslezský\, 79323\, Česká republika
END:VEVENT
BEGIN:VEVENT
DTSTART;VALUE=DATE:20221029
DTEND;VALUE=DATE:20221030
DTSTAMP:20260423T201848
CREATED:20221027T124909Z
LAST-MODIFIED:20221027T124909Z
UID:9645-1667001600-1667087999@www.karlovice.eu
SUMMARY:Mistrovské utkání Karlovice – Horní Město
DESCRIPTION:Sokol Karlovice Vás srdečně zve na mistrovské utkání okresního přeboru mužů proti Hornímu Městu\, které se uskuteční v sobotu 29.10. 2022 ve 14:30 na fotbalovém hřišti. Předzápasem mužů bude utkání starších žáků\, kteří přivítají od 12:00 hod. stejného soupeře. Občerstvení zajištěno. \nČas hlášení: 27. 10. v 16:00 hod.\, 28. 10.  v 16:00 hod.
URL:https://www.karlovice.eu/udalosti/mistrovske-utkani-karlovice-horni-mesto/
LOCATION:Fotbalové hřiště Karlovice
END:VEVENT
BEGIN:VEVENT
DTSTART;TZID=UTC:20221126T000000
DTEND;TZID=UTC:20230120T000000
DTSTAMP:20260423T201848
CREATED:20221019T060306Z
LAST-MODIFIED:20221019T060306Z
UID:9606-1669420800-1674172800@www.karlovice.eu
SUMMARY:Kolektivní vánoční výstava
DESCRIPTION:
URL:https://www.karlovice.eu/udalosti/kolektivni-vanocni-vystava/
LOCATION:Pension U řeky\, Karlovice 209\, Karlovice\, 79323\, Česká republika
END:VEVENT
BEGIN:VEVENT
DTSTART;TZID=UTC:20221126T140000
DTEND;TZID=UTC:20221126T140000
DTSTAMP:20260423T201848
CREATED:20221103T131009Z
LAST-MODIFIED:20221103T131009Z
UID:9653-1669471200-1669471200@www.karlovice.eu
SUMMARY:Vánoční jarmark
DESCRIPTION:
URL:https://www.karlovice.eu/udalosti/vanocni-jarmark/
LOCATION:Obecní dům Slezan\, Karlovice 183\, Karlovice\, Moravskoslezský\, 79323\, Česká republika
END:VEVENT
BEGIN:VEVENT
DTSTART;TZID=UTC:20221208T160000
DTEND;TZID=UTC:20221208T160000
DTSTAMP:20260423T201848
CREATED:20221122T070005Z
LAST-MODIFIED:20221122T070005Z
UID:9679-1670515200-1670515200@www.karlovice.eu
SUMMARY:Vánoční posezení pro seniory
DESCRIPTION:
URL:https://www.karlovice.eu/udalosti/vanocni-posezeni-pro-seniory/
LOCATION:Obecní dům Slezan\, Karlovice 183\, Karlovice\, Moravskoslezský\, 79323\, Česká republika
ORGANIZER;CN="Obec%20Karlovice":MAILTO:podatelna@karlovice.eu
END:VEVENT
BEGIN:VEVENT
DTSTART;VALUE=DATE:20221213
DTEND;VALUE=DATE:20221214
DTSTAMP:20260423T201848
CREATED:20221212T093732Z
LAST-MODIFIED:20221212T093732Z
UID:9697-1670889600-1670975999@www.karlovice.eu
SUMMARY:Namaluj si svého anděla
DESCRIPTION:
URL:https://www.karlovice.eu/udalosti/namaluj-si-sveho-andela/
LOCATION:Moravskoslezský
END:VEVENT
BEGIN:VEVENT
DTSTART;TZID=UTC:20221213T170000
DTEND;TZID=UTC:20221213T200000
DTSTAMP:20260423T201848
CREATED:20221212T131559Z
LAST-MODIFIED:20221212T131559Z
UID:9703-1670950800-1670961600@www.karlovice.eu
SUMMARY:Předvánoční punč ve mlýně
DESCRIPTION:
URL:https://www.karlovice.eu/udalosti/predvanocni-punc-ve-mlyne/
LOCATION:Moravskoslezský
END:VEVENT
BEGIN:VEVENT
DTSTART;TZID=UTC:20230105T150000
DTEND;TZID=UTC:20230105T163000
DTSTAMP:20260423T201848
CREATED:20230102T084900Z
LAST-MODIFIED:20230102T084900Z
UID:9710-1672930800-1672936200@www.karlovice.eu
SUMMARY:Beseda na téma "Jak si správně přát? Novoroční předsevzetí."
DESCRIPTION:
URL:https://www.karlovice.eu/udalosti/beseda-na-tema-jak-si-spravne-prat-novorocni-predsevzeti/
LOCATION:Obecní dům Slezan\, Karlovice 183\, Karlovice\, Moravskoslezský\, 79323\, Česká republika
END:VEVENT
BEGIN:VEVENT
DTSTART;TZID=UTC:20230119T150000
DTEND;TZID=UTC:20230119T163000
DTSTAMP:20260423T201848
CREATED:20230102T085142Z
LAST-MODIFIED:20230102T085142Z
UID:9713-1674140400-1674145800@www.karlovice.eu
SUMMARY:Beseda na téma "Začátek společné cesty k podpoře vlastního zdraví s prezentací typů vhodné stravy."
DESCRIPTION:
URL:https://www.karlovice.eu/udalosti/beseda-na-tema-zacatek-spolecne-cesty-k-podpore-vlastniho-zdravi-s-prezentaci-typu-vhodne-stravy/
LOCATION:Obecní dům Slezan\, Karlovice 183\, Karlovice\, Moravskoslezský\, 79323\, Česká republika
END:VEVENT
END:VCALENDAR