BEGIN:VCALENDAR
VERSION:2.0
PRODID:-//Obec Karlovice - ECPv5.14.0.4//NONSGML v1.0//EN
CALSCALE:GREGORIAN
METHOD:PUBLISH
X-WR-CALNAME:Obec Karlovice
X-ORIGINAL-URL:https://www.karlovice.eu
X-WR-CALDESC:Akce na Obec Karlovice
REFRESH-INTERVAL;VALUE=DURATION:PT1H
X-Robots-Tag:noindex
X-PUBLISHED-TTL:PT1H
BEGIN:VTIMEZONE
TZID:UTC
BEGIN:STANDARD
TZOFFSETFROM:+0000
TZOFFSETTO:+0000
TZNAME:UTC
DTSTART:20250101T000000
END:STANDARD
END:VTIMEZONE
BEGIN:VEVENT
DTSTART;TZID=UTC:20251115T150000
DTEND;TZID=UTC:20251115T170000
DTSTAMP:20260420T174655
CREATED:20251103T074645Z
LAST-MODIFIED:20251103T074736Z
UID:12067-1763218800-1763226000@www.karlovice.eu
SUMMARY:Přednáška: Dánsko očima začátečníka
DESCRIPTION:
URL:https://www.karlovice.eu/udalosti/prednaska-dansko-ocima-zacatecnika/
LOCATION:Více Ve mlýně Karlovice\, Karlovice 421\, Karlovice\, Moravskoslezský\, 79323\, Česká republika
END:VEVENT
BEGIN:VEVENT
DTSTART;TZID=UTC:20251106T170000
DTEND;TZID=UTC:20251106T170000
DTSTAMP:20260420T174655
CREATED:20251104T064425Z
LAST-MODIFIED:20251104T064510Z
UID:12075-1762448400-1762448400@www.karlovice.eu
SUMMARY:Uspávání broučků
DESCRIPTION:
URL:https://www.karlovice.eu/udalosti/uspavani-broucku/
END:VEVENT
BEGIN:VEVENT
DTSTART;TZID=UTC:20251101T190000
DTEND;TZID=UTC:20251101T235900
DTSTAMP:20260420T174655
CREATED:20250911T052043Z
LAST-MODIFIED:20250929T092621Z
UID:11935-1762023600-1762041540@www.karlovice.eu
SUMMARY:Řecká zábava
DESCRIPTION:Letos pro Vás opět chystáme Řeckou zábavu (v minulém roce nám to bohužel překazila povodeň). Termín je sobota 1. listopadu 2025 od 19:00 hod. v Obecním domě Slezan. Prodej vstupenek na poště od 13. 10. 2025 od 13:00 hod.\, vstupné předsálí 200 Kč\, velký sál 250 Kč. Občerstvení zajištěno. Rezervace není možná\, platba pouze v hotovosti. \nPřijďte si užít večer plný řeckých rytmů a písní. 🕺💃 \nBližší informace v příloze. Těšíme se na Vás! 💙
URL:https://www.karlovice.eu/udalosti/recka-zabava/
LOCATION:Obecní dům Slezan\, Karlovice 183\, Karlovice\, Moravskoslezský\, 79323\, Česká republika
ORGANIZER;CN="Obec%20Karlovice":MAILTO:podatelna@karlovice.eu
END:VEVENT
BEGIN:VEVENT
DTSTART;TZID=UTC:20251024T150000
DTEND;TZID=UTC:20251024T180000
DTSTAMP:20260420T174655
CREATED:20250915T064940Z
LAST-MODIFIED:20250915T065015Z
UID:11941-1761318000-1761328800@www.karlovice.eu
SUMMARY:Dýně Ve mlýně - říjnová dílnička
DESCRIPTION:
URL:https://www.karlovice.eu/udalosti/dyne-ve-mlyne-rijnova-dilnicka/
LOCATION:Více Ve mlýně Karlovice\, Karlovice 421\, Karlovice\, Moravskoslezský\, 79323\, Česká republika
END:VEVENT
BEGIN:VEVENT
DTSTART;TZID=UTC:20251011T090000
DTEND;TZID=UTC:20251011T150000
DTSTAMP:20260420T174655
CREATED:20250910T064318Z
LAST-MODIFIED:20250910T064350Z
UID:11927-1760173200-1760194800@www.karlovice.eu
SUMMARY:Karlovický bazárek
DESCRIPTION:
URL:https://www.karlovice.eu/udalosti/karlovicky-bazarek-4/
LOCATION:Obecní dům Slezan\, Karlovice 183\, Karlovice\, Moravskoslezský\, 79323\, Česká republika
END:VEVENT
BEGIN:VEVENT
DTSTART;TZID=UTC:20250926T093000
DTEND;TZID=UTC:20250926T150000
DTSTAMP:20260420T174655
CREATED:20250826T123130Z
LAST-MODIFIED:20250826T123228Z
UID:11901-1758879000-1758898800@www.karlovice.eu
SUMMARY:Exkurze hřebeny Hrubého Jeseníku
DESCRIPTION:
URL:https://www.karlovice.eu/udalosti/exkurze-hrebeny-hrubeho-jeseniku/
END:VEVENT
BEGIN:VEVENT
DTSTART;TZID=UTC:20250917T150000
DTEND;TZID=UTC:20250917T170000
DTSTAMP:20260420T174655
CREATED:20250901T111545Z
LAST-MODIFIED:20250901T111614Z
UID:11924-1758121200-1758128400@www.karlovice.eu
SUMMARY:Zářijová dílnička
DESCRIPTION:
URL:https://www.karlovice.eu/udalosti/zarijova-dilnicka/
LOCATION:Více Ve mlýně Karlovice\, Karlovice 421\, Karlovice\, Moravskoslezský\, 79323\, Česká republika
END:VEVENT
BEGIN:VEVENT
DTSTART;TZID=UTC:20250910T170000
DTEND;TZID=UTC:20250910T170000
DTSTAMP:20260420T174655
CREATED:20250212T071853Z
LAST-MODIFIED:20250212T071922Z
UID:11378-1757523600-1757523600@www.karlovice.eu
SUMMARY:Veřejné zasedání ZO Karlovice
DESCRIPTION:
URL:https://www.karlovice.eu/udalosti/verejne-zasedani-zo-karlovice-7/
LOCATION:Obecní dům Slezan\, Karlovice 183\, Karlovice\, Moravskoslezský\, 79323\, Česká republika
ORGANIZER;CN="Obec%20Karlovice":MAILTO:podatelna@karlovice.eu
END:VEVENT
BEGIN:VEVENT
DTSTART;VALUE=DATE:20250903
DTEND;VALUE=DATE:20250904
DTSTAMP:20260420T174655
CREATED:20250701T064517Z
LAST-MODIFIED:20250701T064541Z
UID:11815-1756857600-1756943999@www.karlovice.eu
SUMMARY:Zájezd seniorů
DESCRIPTION:
URL:https://www.karlovice.eu/udalosti/zajezd-senioru-2/
ORGANIZER;CN="Obec%20Karlovice":MAILTO:podatelna@karlovice.eu
END:VEVENT
BEGIN:VEVENT
DTSTART;TZID=UTC:20250902T173000
DTEND;TZID=UTC:20250902T203000
DTSTAMP:20260420T174655
CREATED:20250623T072719Z
LAST-MODIFIED:20250623T072802Z
UID:11763-1756834200-1756845000@www.karlovice.eu
SUMMARY:Ženský kruh - jak být vyrovnaná a zvládat stres
DESCRIPTION:
URL:https://www.karlovice.eu/udalosti/zensky-kruh-jak-byt-vyrovnana-a-zvladat-stres/
LOCATION:Více Ve mlýně Karlovice\, Karlovice 421\, Karlovice\, Moravskoslezský\, 79323\, Česká republika
END:VEVENT
BEGIN:VEVENT
DTSTART;TZID=UTC:20250826T170000
DTEND;TZID=UTC:20250826T190000
DTSTAMP:20260420T174655
CREATED:20250623T073459Z
LAST-MODIFIED:20250623T074403Z
UID:11771-1756227600-1756234800@www.karlovice.eu
SUMMARY:Meditace ve Mlýně
DESCRIPTION:
URL:https://www.karlovice.eu/udalosti/meditace-ve-mlyne-3/
LOCATION:Více Ve mlýně Karlovice\, Karlovice 421\, Karlovice\, Moravskoslezský\, 79323\, Česká republika
END:VEVENT
BEGIN:VEVENT
DTSTART;TZID=UTC:20250823T130000
DTEND;TZID=UTC:20250823T130000
DTSTAMP:20260420T174655
CREATED:20250630T113649Z
LAST-MODIFIED:20250730T052533Z
UID:11801-1755954000-1755954000@www.karlovice.eu
SUMMARY:Karlovický gulážek
DESCRIPTION:Srdečně zveme všechny příznivce dobrého jídla a zábavy na Karlovický GULÁŽEK! ..aneb soutěž ve vaření nejlepšího kotlíkového guláše.\n\n\nTermín a místo konání: sobota 23. 8. 2025 od 13:00 hod.\, fotbalové hřiště Karlovice.\n\n\nSoutěžit budeme ve dvou kategoriích:\n1. nejlepší kotlíkový guláš\n2. nejlepší týmový \,\,duch\,\, (společné téma\, maska\, nápad\, styl vaření\, dobrá nálada u vaření\, atd..)\n\n\nTěšit se můžete na doprovodný program pro děti (skákací hrad\, vodní hrátky) a večer na zábavu s živou kapelou. Občerstvení během konání akce zajištěno!\n\n\nCelá akce se ponese v lehkém nádechu historie\, a proto jsou vítány dobové kostýmy\, převleky\, masky..od pračlověka do šílených devadesátek! Fantazii se meze nekladou.
URL:https://www.karlovice.eu/udalosti/karlovicky-gulazek/
LOCATION:Fotbalové hřiště Karlovice
END:VEVENT
BEGIN:VEVENT
DTSTART;TZID=UTC:20250808T110000
DTEND;TZID=UTC:20250810T000000
DTSTAMP:20260420T174655
CREATED:20250212T073430Z
LAST-MODIFIED:20250212T073711Z
UID:11392-1754650800-1754784000@www.karlovice.eu
SUMMARY:Tradiční Borůvkové hody na Malajce
DESCRIPTION:
URL:https://www.karlovice.eu/udalosti/tradicni-boruvkove-hody-na-malajce/
LOCATION:Restaurace na Malajce\, Karlovice 419\, Karlovice\, Moravskoslezský\, 79323
END:VEVENT
BEGIN:VEVENT
DTSTART;TZID=UTC:20250805T173000
DTEND;TZID=UTC:20250805T203000
DTSTAMP:20260420T174655
CREATED:20250623T072603Z
LAST-MODIFIED:20250623T072637Z
UID:11761-1754415000-1754425800@www.karlovice.eu
SUMMARY:Ženský kruh - sebeláska\, vnitřní dítě
DESCRIPTION:
URL:https://www.karlovice.eu/udalosti/zensky-kruh-sebelaska-vnitrni-dite/
LOCATION:Více Ve mlýně Karlovice\, Karlovice 421\, Karlovice\, Moravskoslezský\, 79323\, Česká republika
END:VEVENT
BEGIN:VEVENT
DTSTART;TZID=UTC:20250726T160000
DTEND;TZID=UTC:20250726T160000
DTSTAMP:20260420T174655
CREATED:20250623T074145Z
LAST-MODIFIED:20250623T074313Z
UID:11773-1753545600-1753545600@www.karlovice.eu
SUMMARY:PROBOUZENÍ RYCHTY KARLOVICE
DESCRIPTION:
URL:https://www.karlovice.eu/udalosti/probuzeni-rychty-karlovice/
END:VEVENT
BEGIN:VEVENT
DTSTART;TZID=UTC:20250722T170000
DTEND;TZID=UTC:20250722T190000
DTSTAMP:20260420T174655
CREATED:20250623T073353Z
LAST-MODIFIED:20250623T074445Z
UID:11768-1753203600-1753210800@www.karlovice.eu
SUMMARY:Meditace ve Mlýně
DESCRIPTION:
URL:https://www.karlovice.eu/udalosti/meditace-ve-mlyne-2/
LOCATION:Více Ve mlýně Karlovice\, Karlovice 421\, Karlovice\, Moravskoslezský\, 79323\, Česká republika
END:VEVENT
BEGIN:VEVENT
DTSTART;TZID=UTC:20250712T160000
DTEND;TZID=UTC:20250712T160000
DTSTAMP:20260420T174655
CREATED:20250623T074822Z
LAST-MODIFIED:20250623T074904Z
UID:11783-1752336000-1752336000@www.karlovice.eu
SUMMARY:III. Karlovická vlečka
DESCRIPTION:
URL:https://www.karlovice.eu/udalosti/iii-karlovicka-vlecka/
END:VEVENT
BEGIN:VEVENT
DTSTART;TZID=UTC:20250712T100000
DTEND;TZID=UTC:20250712T100000
DTSTAMP:20260420T174655
CREATED:20250521T120932Z
LAST-MODIFIED:20250707T092912Z
UID:11686-1752314400-1752314400@www.karlovice.eu
SUMMARY:Půlroční Silvestr na Malajce - ZRUŠENO
DESCRIPTION:OMLOUVÁME SE\, ALE AKCE SE RUŠÍ. BUDEME SE NA VÁS TĚŠIT V SRPNU NA BORŮVKOVÝCH HODECH.
URL:https://www.karlovice.eu/udalosti/pulrocni-silvestr-na-malajce/
LOCATION:Restaurace na Malajce\, Karlovice 419\, Karlovice\, Moravskoslezský\, 79323
END:VEVENT
BEGIN:VEVENT
DTSTART;TZID=UTC:20250708T173000
DTEND;TZID=UTC:20250708T203000
DTSTAMP:20260420T174655
CREATED:20250623T072448Z
LAST-MODIFIED:20250623T072530Z
UID:11757-1751995800-1752006600@www.karlovice.eu
SUMMARY:Ženský kruh - radost\, čas a péče o sebe
DESCRIPTION:
URL:https://www.karlovice.eu/udalosti/zensky-kruh-radost-cas-a-pece-o-sebe/
LOCATION:Více Ve mlýně Karlovice\, Karlovice 421\, Karlovice\, Moravskoslezský\, 79323\, Česká republika
END:VEVENT
BEGIN:VEVENT
DTSTART;TZID=UTC:20250628T100000
DTEND;TZID=UTC:20250628T170000
DTSTAMP:20260420T174655
CREATED:20250519T125728Z
LAST-MODIFIED:20250519T125805Z
UID:11665-1751104800-1751130000@www.karlovice.eu
SUMMARY:Vítání prázdnin Ve mlýně
DESCRIPTION:
URL:https://www.karlovice.eu/udalosti/vitani-prazdnin-ve-mlyne/
LOCATION:Více Ve mlýně Karlovice\, Karlovice 421\, Karlovice\, Moravskoslezský\, 79323\, Česká republika
END:VEVENT
BEGIN:VEVENT
DTSTART;TZID=UTC:20250617T173000
DTEND;TZID=UTC:20250617T190000
DTSTAMP:20260420T174655
CREATED:20250519T125538Z
LAST-MODIFIED:20250519T125633Z
UID:11660-1750181400-1750186800@www.karlovice.eu
SUMMARY:Meditace Ve mlýně
DESCRIPTION:
URL:https://www.karlovice.eu/udalosti/meditace-ve-mlyne/
LOCATION:Více Ve mlýně Karlovice\, Karlovice 421\, Karlovice\, Moravskoslezský\, 79323\, Česká republika
END:VEVENT
BEGIN:VEVENT
DTSTART;VALUE=DATE:20250614
DTEND;VALUE=DATE:20250615
DTSTAMP:20260420T174655
CREATED:20250212T073323Z
LAST-MODIFIED:20250212T073347Z
UID:11390-1749859200-1749945599@www.karlovice.eu
SUMMARY:Den obce Karlovice a Festival Karlovická kosa
DESCRIPTION:
URL:https://www.karlovice.eu/udalosti/den-obce-karlovice-a-festival-karlovicka-kosa-2/
LOCATION:Fotbalové hřiště Karlovice
ORGANIZER;CN="Obec%20Karlovice":MAILTO:podatelna@karlovice.eu
END:VEVENT
BEGIN:VEVENT
DTSTART;TZID=UTC:20250604T170000
DTEND;TZID=UTC:20250604T170000
DTSTAMP:20260420T174655
CREATED:20250212T071747Z
LAST-MODIFIED:20250212T071820Z
UID:11376-1749056400-1749056400@www.karlovice.eu
SUMMARY:Veřejné zasedání ZO Karlovice
DESCRIPTION:
URL:https://www.karlovice.eu/udalosti/verejne-zasedani-zo-karlovice-6/
LOCATION:Obecní dům Slezan\, Karlovice 183\, Karlovice\, Moravskoslezský\, 79323\, Česká republika
ORGANIZER;CN="Obec%20Karlovice":MAILTO:podatelna@karlovice.eu
END:VEVENT
BEGIN:VEVENT
DTSTART;TZID=UTC:20250603T173000
DTEND;TZID=UTC:20250603T190000
DTSTAMP:20260420T174655
CREATED:20250519T125330Z
LAST-MODIFIED:20250519T125942Z
UID:11657-1748971800-1748977200@www.karlovice.eu
SUMMARY:Ženský kruh Ve mlýně
DESCRIPTION:
URL:https://www.karlovice.eu/udalosti/zensky-kruh/
LOCATION:Více Ve mlýně Karlovice\, Karlovice 421\, Karlovice\, Moravskoslezský\, 79323\, Česká republika
END:VEVENT
BEGIN:VEVENT
DTSTART;TZID=UTC:20250603T150000
DTEND;TZID=UTC:20250603T170000
DTSTAMP:20260420T174655
CREATED:20250519T125152Z
LAST-MODIFIED:20250519T130029Z
UID:11654-1748962800-1748970000@www.karlovice.eu
SUMMARY:Červnová dílnička Ve mlýně
DESCRIPTION:
URL:https://www.karlovice.eu/udalosti/cervnova-dilnicka/
LOCATION:Více Ve mlýně Karlovice\, Karlovice 421\, Karlovice\, Moravskoslezský\, 79323\, Česká republika
END:VEVENT
BEGIN:VEVENT
DTSTART;TZID=UTC:20250602T140000
DTEND;TZID=UTC:20250602T170000
DTSTAMP:20260420T174655
CREATED:20250530T052228Z
LAST-MODIFIED:20250530T052259Z
UID:11701-1748872800-1748883600@www.karlovice.eu
SUMMARY:DEN DĚTÍ
DESCRIPTION:Vážení rodiče\, milé děti. \nKlub rodičů a přátel školy\, ZŠ a MŠ Karlovice\, SDH Karlovice a Obec Karlovice Vás srdečně zvou na Den dětí\, který se bude konat v pondělí 2. června od 14 do 17 hodin v areálu fotbalového hřiště. Těšíme se na Vás.
URL:https://www.karlovice.eu/udalosti/den-deti/
LOCATION:Fotbalové hřiště Karlovice
END:VEVENT
BEGIN:VEVENT
DTSTART;TZID=UTC:20250601T140000
DTEND;TZID=UTC:20250601T140000
DTSTAMP:20260420T174655
CREATED:20250527T061042Z
LAST-MODIFIED:20250527T061326Z
UID:11695-1748786400-1748786400@www.karlovice.eu
SUMMARY:Žehnání včelstev
DESCRIPTION:Srdečně vás zveme na třetí ročník netradiční včelařské akce – žehnání včelstvům\, které se uskuteční v neděli 1. června od 14:00 na zahradě Karlovické pekárny. Stejně jako v předchozích letech požehná včelstvům našeho včelařského spolku katolický kněz Pavel Zachrla\, farář z Heřmanovic a Holčovic. Akce nabídne pestrý program pro všechny generace. Kromě samotného žehnání budete mít jedinečnou příležitost nahlédnout do fascinujícího světa včelaření. Během odpoledne se můžete seznámit se zpracováním včelího vosku a výrobou mezistěn nebo ochutnat regionální medy od místních včelařů. Pro děti bude připraven tvůrčí koutek\, kde si budou moci vyrobit svíčky ze včelího vosku nebo otestovat své znalosti v zábavném včelařském kvízu. Nejlepší řešitelé budou odměněni sladkými dobrotami z Karlovické pekárny. Pro všechny návštěvníky bude připraveno drobné občerstvení. Těšíme se na vaši účast – přijďte s námi objevovat magický svět včel\, tradic a přírody!
URL:https://www.karlovice.eu/udalosti/zehnani-vcelstev/
LOCATION:Pekařství Karlovice\, Karlovice 192\, Karlovice\, 79323
END:VEVENT
BEGIN:VEVENT
DTSTART;TZID=UTC:20250513T150000
DTEND;TZID=UTC:20250513T170000
DTSTAMP:20260420T174655
CREATED:20250422T060656Z
LAST-MODIFIED:20250422T061343Z
UID:11601-1747148400-1747155600@www.karlovice.eu
SUMMARY:Květnová dílnička
DESCRIPTION:
URL:https://www.karlovice.eu/udalosti/kvetnove-dilnicky/
LOCATION:Více Ve mlýně Karlovice\, Karlovice 421\, Karlovice\, Moravskoslezský\, 79323\, Česká republika
END:VEVENT
BEGIN:VEVENT
DTSTART;TZID=UTC:20250508T080000
DTEND;TZID=UTC:20250508T110000
DTSTAMP:20260420T174655
CREATED:20250422T061653Z
LAST-MODIFIED:20250422T061738Z
UID:11605-1746691200-1746702000@www.karlovice.eu
SUMMARY:Vítání ptačího zpěvu
DESCRIPTION:Sraz ve čtvrtek 8. 5. 2025 v 8 hodin v horní části Geologické expozice v Karlově Studánce.
URL:https://www.karlovice.eu/udalosti/vitani-ptaciho-zpevu/
END:VEVENT
BEGIN:VEVENT
DTSTART;TZID=UTC:20250503T140000
DTEND;TZID=UTC:20250503T140000
DTSTAMP:20260420T174655
CREATED:20250212T073211Z
LAST-MODIFIED:20250422T072644Z
UID:11388-1746280800-1746280800@www.karlovice.eu
SUMMARY:Pálení čarodějnic na Malajce
DESCRIPTION:
URL:https://www.karlovice.eu/udalosti/paleni-carodejnic-na-malajce-3/
LOCATION:Restaurace na Malajce\, Karlovice 419\, Karlovice\, Moravskoslezský\, 79323
END:VEVENT
END:VCALENDAR