BEGIN:VCALENDAR
VERSION:2.0
PRODID:-//Obec Karlovice - ECPv5.14.0.4//NONSGML v1.0//EN
CALSCALE:GREGORIAN
METHOD:PUBLISH
X-WR-CALNAME:Obec Karlovice
X-ORIGINAL-URL:https://www.karlovice.eu
X-WR-CALDESC:Akce na Obec Karlovice
REFRESH-INTERVAL;VALUE=DURATION:PT1H
X-Robots-Tag:noindex
X-PUBLISHED-TTL:PT1H
BEGIN:VTIMEZONE
TZID:UTC
BEGIN:STANDARD
TZOFFSETFROM:+0000
TZOFFSETTO:+0000
TZNAME:UTC
DTSTART:20250101T000000
END:STANDARD
END:VTIMEZONE
BEGIN:VEVENT
DTSTART;TZID=UTC:20260210T150000
DTEND;TZID=UTC:20260210T170000
DTSTAMP:20260420T174622
CREATED:20260126T101658Z
LAST-MODIFIED:20260126T101733Z
UID:12231-1770735600-1770742800@www.karlovice.eu
SUMMARY:Odpoledne Ve mlýně
DESCRIPTION:
URL:https://www.karlovice.eu/udalosti/odpoledne-ve-mlyne-2/
LOCATION:Více Ve mlýně Karlovice\, Karlovice 421\, Karlovice\, Moravskoslezský\, 79323\, Česká republika
END:VEVENT
BEGIN:VEVENT
DTSTART;TZID=UTC:20260207T100000
DTEND;TZID=UTC:20260207T170000
DTSTAMP:20260420T174622
CREATED:20260126T100059Z
LAST-MODIFIED:20260126T100148Z
UID:12220-1770458400-1770483600@www.karlovice.eu
SUMMARY:Sobota Ve mlýně
DESCRIPTION:
URL:https://www.karlovice.eu/udalosti/sobota-ve-mlyne/
LOCATION:Více Ve mlýně Karlovice\, Karlovice 421\, Karlovice\, Moravskoslezský\, 79323\, Česká republika
END:VEVENT
BEGIN:VEVENT
DTSTART;TZID=UTC:20260207T100000
DTEND;TZID=UTC:20260207T100000
DTSTAMP:20260420T174622
CREATED:20260126T094723Z
LAST-MODIFIED:20260126T094807Z
UID:12216-1770458400-1770458400@www.karlovice.eu
SUMMARY:Den mokřadů
DESCRIPTION:
URL:https://www.karlovice.eu/udalosti/den-mokradu/
LOCATION:Více Ve mlýně Karlovice\, Karlovice 421\, Karlovice\, Moravskoslezský\, 79323\, Česká republika
END:VEVENT
BEGIN:VEVENT
DTSTART;TZID=UTC:20260203T150000
DTEND;TZID=UTC:20260203T170000
DTSTAMP:20260420T174622
CREATED:20260126T100747Z
LAST-MODIFIED:20260126T100837Z
UID:12229-1770130800-1770138000@www.karlovice.eu
SUMMARY:Odpoledne Ve mlýně
DESCRIPTION:
URL:https://www.karlovice.eu/udalosti/odpoledne-ve-mlyne/
LOCATION:Více Ve mlýně Karlovice\, Karlovice 421\, Karlovice\, Moravskoslezský\, 79323\, Česká republika
END:VEVENT
BEGIN:VEVENT
DTSTART;TZID=UTC:20260124T140000
DTEND;TZID=UTC:20260124T180000
DTSTAMP:20260420T174622
CREATED:20251217T105852Z
LAST-MODIFIED:20251217T105919Z
UID:12155-1769263200-1769277600@www.karlovice.eu
SUMMARY:Otevřené srdce - léčivé odpoledne Ve mlýně
DESCRIPTION:
URL:https://www.karlovice.eu/udalosti/otevrene-srdce-lecive-odpoledne-ve-mlyne/
LOCATION:Více Ve mlýně Karlovice\, Karlovice 421\, Karlovice\, Moravskoslezský\, 79323\, Česká republika
END:VEVENT
BEGIN:VEVENT
DTSTART;TZID=UTC:20260123T193000
DTEND;TZID=UTC:20260123T193000
DTSTAMP:20260420T174622
CREATED:20251217T102018Z
LAST-MODIFIED:20251217T102319Z
UID:12151-1769196600-1769196600@www.karlovice.eu
SUMMARY:Myslivecký ples
DESCRIPTION:Myslivecký spolek PRADĚD\, z.s. Vrbno pod Pradědem Vás srdečně zve na tradiční\, již 7. myslivecký ples\, který se bude konat: \n\nKdy: 23. ledna 2026\nKde: Obecní dům Slezan v Karlovicích\nZačátek: 19:30 hod.\n\nProgram a zábava\n\nK tanci a poslechu hraje skupina AXEL z Olomouce.\nPřipraveno je občerstvení v podobě zvěřinového guláše.\nTěšit se můžete na bohatou tombolu.\n\nVstupenky\nPředprodej vstupenek s místenkou v ceně 300\,- Kč probíhá od 15. prosince 2025 na těchto místech: \n\nKulturní\, informační a vzdělávací centrum Vrbno\, p.o. (Střecha)\n\nTelefon: +420 554 295 195\, 605 291 147\nE-mail: kultura@kiv-vrbno.cz\nProdejní doba: 8:00 – 15:00 hod\n\n\nTuristické informační centrum Vrbno\n\nTelefon: +420 554 751 585\nE-mail: info@tic-vrbno.cz\nProdejní doba: Po – Čt 8:30 – 12:00 a 13:00 – 16:00 hod\n\n\n\nPoznámka: Změna termínu je vyhrazena. \nTěší se na Vás vrbenská myslivost! \nTato akce je pořádána s podporou Města Vrbno pod Pradědem. \n 
URL:https://www.karlovice.eu/udalosti/myslivecky-ples-3/
LOCATION:Obecní dům Slezan\, Karlovice 183\, Karlovice\, Moravskoslezský\, 79323\, Česká republika
END:VEVENT
BEGIN:VEVENT
DTSTART;TZID=UTC:20260117T170000
DTEND;TZID=UTC:20260117T200000
DTSTAMP:20260420T174622
CREATED:20251217T101536Z
LAST-MODIFIED:20260114T071425Z
UID:12145-1768669200-1768680000@www.karlovice.eu
SUMMARY:1. tančírna - neboli Čaje o páté - ZRUŠENO
DESCRIPTION:EDIT: Omlouváme se\, ale ze zdravotních důvodů se tato akce ruší. Jakmile to bude možné\, zveřejníme pro Vás jiný termín. \nSrdečně Vás zveme v sobotou 17. 1. 2026 od 17. 00 do 20.00 hodin na 1. tančírnu neboli Čaje o páté. Více informací zveřejníme prostřednictvím plakátu a informačních kanálů obce. Těšíme se na Vás.
URL:https://www.karlovice.eu/udalosti/1-tancirna-neboli-caje-o-pate/
LOCATION:Obecní dům Slezan\, Karlovice 183\, Karlovice\, Moravskoslezský\, 79323\, Česká republika
END:VEVENT
BEGIN:VEVENT
DTSTART;TZID=UTC:20260113T150000
DTEND;TZID=UTC:20260113T170000
DTSTAMP:20260420T174622
CREATED:20251217T110008Z
LAST-MODIFIED:20251217T110045Z
UID:12158-1768316400-1768323600@www.karlovice.eu
SUMMARY:Lednová dílnička
DESCRIPTION:
URL:https://www.karlovice.eu/udalosti/lednova-dilnicka/
LOCATION:Více Ve mlýně Karlovice\, Karlovice 421\, Karlovice\, Moravskoslezský\, 79323\, Česká republika
END:VEVENT
BEGIN:VEVENT
DTSTART;TZID=UTC:20260101T093000
DTEND;TZID=UTC:20260101T093000
DTSTAMP:20260420T174622
CREATED:20251210T085650Z
LAST-MODIFIED:20251210T085709Z
UID:12138-1767259800-1767259800@www.karlovice.eu
SUMMARY:Výšlap na Obří vrch
DESCRIPTION:Sejdeme se u splavu 1. ledna 2026 v 9:30 hod. Těšíme se na Vás. \nPřátelé Obřáku.
URL:https://www.karlovice.eu/udalosti/vyslap-na-obri-vrch/
END:VEVENT
BEGIN:VEVENT
DTSTART;TZID=UTC:20251216T150000
DTEND;TZID=UTC:20251216T170000
DTSTAMP:20260420T174622
CREATED:20251121T072750Z
LAST-MODIFIED:20251121T072830Z
UID:12094-1765897200-1765904400@www.karlovice.eu
SUMMARY:Prosincová dílnička
DESCRIPTION:
URL:https://www.karlovice.eu/udalosti/prosincova-dilnicka/
LOCATION:Více Ve mlýně Karlovice\, Karlovice 421\, Karlovice\, Moravskoslezský\, 79323\, Česká republika
END:VEVENT
BEGIN:VEVENT
DTSTART;TZID=UTC:20251213T090000
DTEND;TZID=UTC:20251213T150000
DTSTAMP:20260420T174622
CREATED:20251121T072931Z
LAST-MODIFIED:20251121T073013Z
UID:12097-1765616400-1765638000@www.karlovice.eu
SUMMARY:Doba ledová
DESCRIPTION:
URL:https://www.karlovice.eu/udalosti/doba-ledova/
END:VEVENT
BEGIN:VEVENT
DTSTART;TZID=UTC:20251210T170000
DTEND;TZID=UTC:20251210T170000
DTSTAMP:20260420T174622
CREATED:20250212T071945Z
LAST-MODIFIED:20250212T072023Z
UID:11380-1765386000-1765386000@www.karlovice.eu
SUMMARY:Veřejné zasedání ZO Karlovice
DESCRIPTION:
URL:https://www.karlovice.eu/udalosti/verejne-zasedani-zo-karlovice-8/
LOCATION:Obecní dům Slezan\, Karlovice 183\, Karlovice\, Moravskoslezský\, 79323\, Česká republika
ORGANIZER;CN="Obec%20Karlovice":MAILTO:podatelna@karlovice.eu
END:VEVENT
BEGIN:VEVENT
DTSTART;TZID=UTC:20251203T160000
DTEND;TZID=UTC:20251203T160000
DTSTAMP:20260420T174622
CREATED:20251121T101253Z
LAST-MODIFIED:20251121T101340Z
UID:12100-1764777600-1764777600@www.karlovice.eu
SUMMARY:Vánoční punč
DESCRIPTION:
URL:https://www.karlovice.eu/udalosti/vanocni-punc/
END:VEVENT
BEGIN:VEVENT
DTSTART;TZID=UTC:20251203T160000
DTEND;TZID=UTC:20251203T160000
DTSTAMP:20260420T174622
CREATED:20251016T083241Z
LAST-MODIFIED:20251119T063826Z
UID:11986-1764777600-1764777600@www.karlovice.eu
SUMMARY:Vánoční posezení seniorů
DESCRIPTION:Vážení senioři\, srdečně Vás zveme na Vánoční posezení\, které se uskuteční ve středu 3. prosince 2025 od 16 hod. ve společenském sále Obecního domu Slezan. K poslechu zahraje pan Petr Košař z Karlovic. Malé občerstvení zajištěno. Přijďte se naladit na tu správnou vánoční atmosféru. Budeme se těšit.
URL:https://www.karlovice.eu/udalosti/vanocni-posezeni-senioru/
LOCATION:Obecní dům Slezan\, Karlovice 183\, Karlovice\, Moravskoslezský\, 79323\, Česká republika
ORGANIZER;CN="Obec%20Karlovice":MAILTO:podatelna@karlovice.eu
END:VEVENT
BEGIN:VEVENT
DTSTART;TZID=UTC:20251129T130000
DTEND;TZID=UTC:20251129T130000
DTSTAMP:20260420T174622
CREATED:20251016T083412Z
LAST-MODIFIED:20251020T051350Z
UID:11988-1764421200-1764421200@www.karlovice.eu
SUMMARY:Vánoční jarmark
DESCRIPTION:Kominíček Karlovice a Obec Karlovice vás zvou na Vánoční jarmark. \n📅 Sobota 29. 11. 2025 od 13:00 hod. 📍 Obecní dům Slezan \n🎄 Výroba adventních věnců a vánočních ozdob☕ Občerstvení zajištěno
URL:https://www.karlovice.eu/udalosti/vanocni-jarmark-3/
LOCATION:Obecní dům Slezan\, Karlovice 183\, Karlovice\, Moravskoslezský\, 79323\, Česká republika
ORGANIZER;CN="Obec%20Karlovice":MAILTO:podatelna@karlovice.eu
END:VEVENT
BEGIN:VEVENT
DTSTART;TZID=UTC:20251118T150000
DTEND;TZID=UTC:20251118T170000
DTSTAMP:20260420T174622
CREATED:20251103T074448Z
LAST-MODIFIED:20251103T074550Z
UID:12063-1763478000-1763485200@www.karlovice.eu
SUMMARY:Listopadová dílnička
DESCRIPTION:
URL:https://www.karlovice.eu/udalosti/listopadova-dilnicka/
LOCATION:Více Ve mlýně Karlovice\, Karlovice 421\, Karlovice\, Moravskoslezský\, 79323\, Česká republika
END:VEVENT
BEGIN:VEVENT
DTSTART;TZID=UTC:20251115T150000
DTEND;TZID=UTC:20251115T170000
DTSTAMP:20260420T174622
CREATED:20251103T074645Z
LAST-MODIFIED:20251103T074736Z
UID:12067-1763218800-1763226000@www.karlovice.eu
SUMMARY:Přednáška: Dánsko očima začátečníka
DESCRIPTION:
URL:https://www.karlovice.eu/udalosti/prednaska-dansko-ocima-zacatecnika/
LOCATION:Více Ve mlýně Karlovice\, Karlovice 421\, Karlovice\, Moravskoslezský\, 79323\, Česká republika
END:VEVENT
BEGIN:VEVENT
DTSTART;TZID=UTC:20251106T170000
DTEND;TZID=UTC:20251106T170000
DTSTAMP:20260420T174622
CREATED:20251104T064425Z
LAST-MODIFIED:20251104T064510Z
UID:12075-1762448400-1762448400@www.karlovice.eu
SUMMARY:Uspávání broučků
DESCRIPTION:
URL:https://www.karlovice.eu/udalosti/uspavani-broucku/
END:VEVENT
BEGIN:VEVENT
DTSTART;TZID=UTC:20251101T190000
DTEND;TZID=UTC:20251101T235900
DTSTAMP:20260420T174622
CREATED:20250911T052043Z
LAST-MODIFIED:20250929T092621Z
UID:11935-1762023600-1762041540@www.karlovice.eu
SUMMARY:Řecká zábava
DESCRIPTION:Letos pro Vás opět chystáme Řeckou zábavu (v minulém roce nám to bohužel překazila povodeň). Termín je sobota 1. listopadu 2025 od 19:00 hod. v Obecním domě Slezan. Prodej vstupenek na poště od 13. 10. 2025 od 13:00 hod.\, vstupné předsálí 200 Kč\, velký sál 250 Kč. Občerstvení zajištěno. Rezervace není možná\, platba pouze v hotovosti. \nPřijďte si užít večer plný řeckých rytmů a písní. 🕺💃 \nBližší informace v příloze. Těšíme se na Vás! 💙
URL:https://www.karlovice.eu/udalosti/recka-zabava/
LOCATION:Obecní dům Slezan\, Karlovice 183\, Karlovice\, Moravskoslezský\, 79323\, Česká republika
ORGANIZER;CN="Obec%20Karlovice":MAILTO:podatelna@karlovice.eu
END:VEVENT
BEGIN:VEVENT
DTSTART;TZID=UTC:20251024T150000
DTEND;TZID=UTC:20251024T180000
DTSTAMP:20260420T174622
CREATED:20250915T064940Z
LAST-MODIFIED:20250915T065015Z
UID:11941-1761318000-1761328800@www.karlovice.eu
SUMMARY:Dýně Ve mlýně - říjnová dílnička
DESCRIPTION:
URL:https://www.karlovice.eu/udalosti/dyne-ve-mlyne-rijnova-dilnicka/
LOCATION:Více Ve mlýně Karlovice\, Karlovice 421\, Karlovice\, Moravskoslezský\, 79323\, Česká republika
END:VEVENT
BEGIN:VEVENT
DTSTART;TZID=UTC:20251011T090000
DTEND;TZID=UTC:20251011T150000
DTSTAMP:20260420T174622
CREATED:20250910T064318Z
LAST-MODIFIED:20250910T064350Z
UID:11927-1760173200-1760194800@www.karlovice.eu
SUMMARY:Karlovický bazárek
DESCRIPTION:
URL:https://www.karlovice.eu/udalosti/karlovicky-bazarek-4/
LOCATION:Obecní dům Slezan\, Karlovice 183\, Karlovice\, Moravskoslezský\, 79323\, Česká republika
END:VEVENT
BEGIN:VEVENT
DTSTART;TZID=UTC:20250926T093000
DTEND;TZID=UTC:20250926T150000
DTSTAMP:20260420T174622
CREATED:20250826T123130Z
LAST-MODIFIED:20250826T123228Z
UID:11901-1758879000-1758898800@www.karlovice.eu
SUMMARY:Exkurze hřebeny Hrubého Jeseníku
DESCRIPTION:
URL:https://www.karlovice.eu/udalosti/exkurze-hrebeny-hrubeho-jeseniku/
END:VEVENT
BEGIN:VEVENT
DTSTART;TZID=UTC:20250917T150000
DTEND;TZID=UTC:20250917T170000
DTSTAMP:20260420T174622
CREATED:20250901T111545Z
LAST-MODIFIED:20250901T111614Z
UID:11924-1758121200-1758128400@www.karlovice.eu
SUMMARY:Zářijová dílnička
DESCRIPTION:
URL:https://www.karlovice.eu/udalosti/zarijova-dilnicka/
LOCATION:Více Ve mlýně Karlovice\, Karlovice 421\, Karlovice\, Moravskoslezský\, 79323\, Česká republika
END:VEVENT
BEGIN:VEVENT
DTSTART;TZID=UTC:20250910T170000
DTEND;TZID=UTC:20250910T170000
DTSTAMP:20260420T174622
CREATED:20250212T071853Z
LAST-MODIFIED:20250212T071922Z
UID:11378-1757523600-1757523600@www.karlovice.eu
SUMMARY:Veřejné zasedání ZO Karlovice
DESCRIPTION:
URL:https://www.karlovice.eu/udalosti/verejne-zasedani-zo-karlovice-7/
LOCATION:Obecní dům Slezan\, Karlovice 183\, Karlovice\, Moravskoslezský\, 79323\, Česká republika
ORGANIZER;CN="Obec%20Karlovice":MAILTO:podatelna@karlovice.eu
END:VEVENT
BEGIN:VEVENT
DTSTART;VALUE=DATE:20250903
DTEND;VALUE=DATE:20250904
DTSTAMP:20260420T174622
CREATED:20250701T064517Z
LAST-MODIFIED:20250701T064541Z
UID:11815-1756857600-1756943999@www.karlovice.eu
SUMMARY:Zájezd seniorů
DESCRIPTION:
URL:https://www.karlovice.eu/udalosti/zajezd-senioru-2/
ORGANIZER;CN="Obec%20Karlovice":MAILTO:podatelna@karlovice.eu
END:VEVENT
BEGIN:VEVENT
DTSTART;TZID=UTC:20250902T173000
DTEND;TZID=UTC:20250902T203000
DTSTAMP:20260420T174622
CREATED:20250623T072719Z
LAST-MODIFIED:20250623T072802Z
UID:11763-1756834200-1756845000@www.karlovice.eu
SUMMARY:Ženský kruh - jak být vyrovnaná a zvládat stres
DESCRIPTION:
URL:https://www.karlovice.eu/udalosti/zensky-kruh-jak-byt-vyrovnana-a-zvladat-stres/
LOCATION:Více Ve mlýně Karlovice\, Karlovice 421\, Karlovice\, Moravskoslezský\, 79323\, Česká republika
END:VEVENT
BEGIN:VEVENT
DTSTART;TZID=UTC:20250826T170000
DTEND;TZID=UTC:20250826T190000
DTSTAMP:20260420T174622
CREATED:20250623T073459Z
LAST-MODIFIED:20250623T074403Z
UID:11771-1756227600-1756234800@www.karlovice.eu
SUMMARY:Meditace ve Mlýně
DESCRIPTION:
URL:https://www.karlovice.eu/udalosti/meditace-ve-mlyne-3/
LOCATION:Více Ve mlýně Karlovice\, Karlovice 421\, Karlovice\, Moravskoslezský\, 79323\, Česká republika
END:VEVENT
BEGIN:VEVENT
DTSTART;TZID=UTC:20250823T130000
DTEND;TZID=UTC:20250823T130000
DTSTAMP:20260420T174622
CREATED:20250630T113649Z
LAST-MODIFIED:20250730T052533Z
UID:11801-1755954000-1755954000@www.karlovice.eu
SUMMARY:Karlovický gulážek
DESCRIPTION:Srdečně zveme všechny příznivce dobrého jídla a zábavy na Karlovický GULÁŽEK! ..aneb soutěž ve vaření nejlepšího kotlíkového guláše.\n\n\nTermín a místo konání: sobota 23. 8. 2025 od 13:00 hod.\, fotbalové hřiště Karlovice.\n\n\nSoutěžit budeme ve dvou kategoriích:\n1. nejlepší kotlíkový guláš\n2. nejlepší týmový \,\,duch\,\, (společné téma\, maska\, nápad\, styl vaření\, dobrá nálada u vaření\, atd..)\n\n\nTěšit se můžete na doprovodný program pro děti (skákací hrad\, vodní hrátky) a večer na zábavu s živou kapelou. Občerstvení během konání akce zajištěno!\n\n\nCelá akce se ponese v lehkém nádechu historie\, a proto jsou vítány dobové kostýmy\, převleky\, masky..od pračlověka do šílených devadesátek! Fantazii se meze nekladou.
URL:https://www.karlovice.eu/udalosti/karlovicky-gulazek/
LOCATION:Fotbalové hřiště Karlovice
END:VEVENT
BEGIN:VEVENT
DTSTART;TZID=UTC:20250808T110000
DTEND;TZID=UTC:20250810T000000
DTSTAMP:20260420T174622
CREATED:20250212T073430Z
LAST-MODIFIED:20250212T073711Z
UID:11392-1754650800-1754784000@www.karlovice.eu
SUMMARY:Tradiční Borůvkové hody na Malajce
DESCRIPTION:
URL:https://www.karlovice.eu/udalosti/tradicni-boruvkove-hody-na-malajce/
LOCATION:Restaurace na Malajce\, Karlovice 419\, Karlovice\, Moravskoslezský\, 79323
END:VEVENT
BEGIN:VEVENT
DTSTART;TZID=UTC:20250805T173000
DTEND;TZID=UTC:20250805T203000
DTSTAMP:20260420T174622
CREATED:20250623T072603Z
LAST-MODIFIED:20250623T072637Z
UID:11761-1754415000-1754425800@www.karlovice.eu
SUMMARY:Ženský kruh - sebeláska\, vnitřní dítě
DESCRIPTION:
URL:https://www.karlovice.eu/udalosti/zensky-kruh-sebelaska-vnitrni-dite/
LOCATION:Více Ve mlýně Karlovice\, Karlovice 421\, Karlovice\, Moravskoslezský\, 79323\, Česká republika
END:VEVENT
END:VCALENDAR