BEGIN:VCALENDAR
VERSION:2.0
PRODID:-//Obec Karlovice - ECPv5.14.0.4//NONSGML v1.0//EN
CALSCALE:GREGORIAN
METHOD:PUBLISH
X-WR-CALNAME:Obec Karlovice
X-ORIGINAL-URL:https://www.karlovice.eu
X-WR-CALDESC:Akce na Obec Karlovice
REFRESH-INTERVAL;VALUE=DURATION:PT1H
X-Robots-Tag:noindex
X-PUBLISHED-TTL:PT1H
BEGIN:VTIMEZONE
TZID:UTC
BEGIN:STANDARD
TZOFFSETFROM:+0000
TZOFFSETTO:+0000
TZNAME:UTC
DTSTART:20260101T000000
END:STANDARD
END:VTIMEZONE
BEGIN:VEVENT
DTSTART;TZID=UTC:20261128T130000
DTEND;TZID=UTC:20261128T180000
DTSTAMP:20260420T154351
CREATED:20260116T070325Z
LAST-MODIFIED:20260116T070410Z
UID:12205-1795870800-1795888800@www.karlovice.eu
SUMMARY:Vánoční jarmark
DESCRIPTION:Bližší informace budou zveřejněny.
URL:https://www.karlovice.eu/udalosti/vanocni-jarmark-4/
LOCATION:Obecní dům Slezan\, Karlovice 183\, Karlovice\, Moravskoslezský\, 79323\, Česká republika
ORGANIZER;CN="Obec%20Karlovice":MAILTO:podatelna@karlovice.eu
END:VEVENT
BEGIN:VEVENT
DTSTART;TZID=UTC:20261128T180000
DTEND;TZID=UTC:20261128T180000
DTSTAMP:20260420T154351
CREATED:20260116T070226Z
LAST-MODIFIED:20260116T070307Z
UID:12203-1795888800-1795888800@www.karlovice.eu
SUMMARY:Rozsvícení vánočního stromu
DESCRIPTION:Bližší informace budou zveřejněny.
URL:https://www.karlovice.eu/udalosti/rozsviceni-vanocniho-stromu/
ORGANIZER;CN="Obec%20Karlovice":MAILTO:podatelna@karlovice.eu
END:VEVENT
BEGIN:VEVENT
DTSTART;TZID=UTC:20261202T160000
DTEND;TZID=UTC:20261202T160000
DTSTAMP:20260420T154351
CREATED:20260116T070433Z
LAST-MODIFIED:20260116T070500Z
UID:12207-1796227200-1796227200@www.karlovice.eu
SUMMARY:Předvánoční posezení pro seniory
DESCRIPTION:Bližší informace budou zveřejněny.
URL:https://www.karlovice.eu/udalosti/predvanocni-posezeni-pro-seniory/
LOCATION:Obecní dům Slezan\, Karlovice 183\, Karlovice\, Moravskoslezský\, 79323\, Česká republika
ORGANIZER;CN="Obec%20Karlovice":MAILTO:podatelna@karlovice.eu
END:VEVENT
END:VCALENDAR