BEGIN:VCALENDAR
VERSION:2.0
PRODID:-//Obec Karlovice - ECPv5.14.0.4//NONSGML v1.0//EN
CALSCALE:GREGORIAN
METHOD:PUBLISH
X-WR-CALNAME:Obec Karlovice
X-ORIGINAL-URL:https://www.karlovice.eu
X-WR-CALDESC:Akce na Obec Karlovice
REFRESH-INTERVAL;VALUE=DURATION:PT1H
X-Robots-Tag:noindex
X-PUBLISHED-TTL:PT1H
BEGIN:VTIMEZONE
TZID:UTC
BEGIN:STANDARD
TZOFFSETFROM:+0000
TZOFFSETTO:+0000
TZNAME:UTC
DTSTART:20230101T000000
END:STANDARD
END:VTIMEZONE
BEGIN:VEVENT
DTSTART;TZID=UTC:20240322T000000
DTEND;TZID=UTC:20240322T000000
DTSTAMP:20260420T175839
CREATED:20240423T092744Z
LAST-MODIFIED:20240423T092842Z
UID:10536-1711065600-1711065600@www.karlovice.eu
SUMMARY:Vodní hrátky\, hrátky se zvířátky – Světový den vody
DESCRIPTION:
URL:https://www.karlovice.eu/udalosti/vodni-hratky-hratky-se-zviratky-svetovy-den-vody/
LOCATION:Více Ve mlýně Karlovice\, Karlovice 421\, Karlovice\, Moravskoslezský\, 79323\, Česká republika
END:VEVENT
BEGIN:VEVENT
DTSTART;TZID=UTC:20240316T000000
DTEND;TZID=UTC:20240316T000000
DTSTAMP:20260420T175839
CREATED:20240423T092632Z
LAST-MODIFIED:20240423T092704Z
UID:10534-1710547200-1710547200@www.karlovice.eu
SUMMARY:Vítání občánků
DESCRIPTION:
URL:https://www.karlovice.eu/udalosti/vitani-obcanku/
LOCATION:Obecní dům Slezan\, Karlovice 183\, Karlovice\, Moravskoslezský\, 79323\, Česká republika
ORGANIZER;CN="Obec%20Karlovice":MAILTO:podatelna@karlovice.eu
END:VEVENT
BEGIN:VEVENT
DTSTART;TZID=UTC:20240313T170000
DTEND;TZID=UTC:20240313T170000
DTSTAMP:20260420T175839
CREATED:20240423T093055Z
LAST-MODIFIED:20240423T093131Z
UID:10540-1710349200-1710349200@www.karlovice.eu
SUMMARY:Veřejné zasedání ZO Karlovice
DESCRIPTION:
URL:https://www.karlovice.eu/udalosti/verejne-zasedani-zo-karlovice/
LOCATION:Obecní dům Slezan\, Karlovice 183\, Karlovice\, Moravskoslezský\, 79323\, Česká republika
ORGANIZER;CN="Obec%20Karlovice":MAILTO:podatelna@karlovice.eu
END:VEVENT
BEGIN:VEVENT
DTSTART;TZID=UTC:20240308T200000
DTEND;TZID=UTC:20240308T200000
DTSTAMP:20260420T175839
CREATED:20240125T120706Z
LAST-MODIFIED:20240125T120706Z
UID:10359-1709928000-1709928000@www.karlovice.eu
SUMMARY:Obecní ples
DESCRIPTION:
URL:https://www.karlovice.eu/udalosti/obecni-ples/
LOCATION:Obecní dům Slezan\, Karlovice 183\, Karlovice\, Moravskoslezský\, 79323\, Česká republika
ORGANIZER;CN="Obec%20Karlovice":MAILTO:podatelna@karlovice.eu
END:VEVENT
BEGIN:VEVENT
DTSTART;TZID=UTC:20240302T000000
DTEND;TZID=UTC:20240302T000000
DTSTAMP:20260420T175839
CREATED:20240423T092455Z
LAST-MODIFIED:20240423T092542Z
UID:10532-1709337600-1709337600@www.karlovice.eu
SUMMARY:Exkurze Nebojte se sněhu
DESCRIPTION:
URL:https://www.karlovice.eu/udalosti/exkurze-nebojte-se-snehu/
LOCATION:Moravskoslezský
END:VEVENT
BEGIN:VEVENT
DTSTART;TZID=UTC:20240210T000000
DTEND;TZID=UTC:20240210T000000
DTSTAMP:20260420T175839
CREATED:20240423T091511Z
LAST-MODIFIED:20240423T091739Z
UID:10527-1707523200-1707523200@www.karlovice.eu
SUMMARY:Maškarní bál pro děti – tělocvična ZŠ
DESCRIPTION:
URL:https://www.karlovice.eu/udalosti/maskarni-bal-pro-deti-telocvicna-zs/
LOCATION:Tělocvična ZŠ a MŠ Karlovice\, Karlovice 143\, Karlovice\, Moravskoslezský\, 79323\, Česká republika
END:VEVENT
BEGIN:VEVENT
DTSTART;TZID=UTC:20240202T000000
DTEND;TZID=UTC:20240202T000000
DTSTAMP:20260420T175839
CREATED:20240423T091133Z
LAST-MODIFIED:20240423T091222Z
UID:10525-1706832000-1706832000@www.karlovice.eu
SUMMARY:Celodenní program pro děti Ve mlýně – pololetní prázdniny
DESCRIPTION:
URL:https://www.karlovice.eu/udalosti/celodenni-program-pro-deti-ve-mlyne-pololetni-prazdniny/
LOCATION:Více Ve mlýně Karlovice\, Karlovice 421\, Karlovice\, Moravskoslezský\, 79323\, Česká republika
END:VEVENT
BEGIN:VEVENT
DTSTART;TZID=UTC:20240119T193000
DTEND;TZID=UTC:20240119T193000
DTSTAMP:20260420T175839
CREATED:20240108T130056Z
LAST-MODIFIED:20240108T130056Z
UID:10355-1705692600-1705692600@www.karlovice.eu
SUMMARY:Myslivecký ples
DESCRIPTION:
URL:https://www.karlovice.eu/udalosti/myslivecky-ples-2/
LOCATION:Obecní dům Slezan\, Karlovice 183\, Karlovice\, Moravskoslezský\, 79323\, Česká republika
END:VEVENT
BEGIN:VEVENT
DTSTART;TZID=UTC:20240110T000000
DTEND;TZID=UTC:20240110T000000
DTSTAMP:20260420T175839
CREATED:20240423T090035Z
LAST-MODIFIED:20240423T090821Z
UID:10520-1704844800-1704844800@www.karlovice.eu
SUMMARY:Středeční odpoledne Ve mlýně – tvoření a hry pro děti (probíhá celoročně kromě letních prázdnin)
DESCRIPTION:č
URL:https://www.karlovice.eu/udalosti/stredecni-odpoledne-ve-mlyne-tvoreni-a-hry-pro-deti-probiha-celorocne-krome-letnich-prazdnin/
LOCATION:Více Ve mlýně Karlovice\, Karlovice 421\, Karlovice\, Moravskoslezský\, 79323\, Česká republika
END:VEVENT
BEGIN:VEVENT
DTSTART;VALUE=DATE:20240101
DTEND;VALUE=DATE:20240102
DTSTAMP:20260420T175839
CREATED:20240123T085835Z
LAST-MODIFIED:20240423T100542Z
UID:10518-1704067200-1704153599@www.karlovice.eu
SUMMARY:Novoroční výšlap na Obří vrch
DESCRIPTION:
URL:https://www.karlovice.eu/udalosti/novorocni-vyslap-na-obri-vrch/
LOCATION:Moravskoslezský
END:VEVENT
BEGIN:VEVENT
DTSTART;TZID=UTC:20231214T143000
DTEND;TZID=UTC:20231214T160000
DTSTAMP:20260420T175839
CREATED:20231123T133519Z
LAST-MODIFIED:20231123T133519Z
UID:10317-1702564200-1702569600@www.karlovice.eu
SUMMARY:Beseda na téma: Advent\, zvyklosti\, tradice\, recepty na vánoční hodování
DESCRIPTION:
URL:https://www.karlovice.eu/udalosti/beseda-na-tema-advent-zvyklosti-tradice-recepty-na-vanocni-hodovani/
LOCATION:Obecní dům Slezan\, Karlovice 183\, Karlovice\, Moravskoslezský\, 79323\, Česká republika
END:VEVENT
BEGIN:VEVENT
DTSTART;TZID=UTC:20231214T143000
DTEND;TZID=UTC:20231214T143000
DTSTAMP:20260420T175839
CREATED:20231123T133659Z
LAST-MODIFIED:20231123T133659Z
UID:10320-1702564200-1702564200@www.karlovice.eu
SUMMARY:Vánoční posezení pro seniory
DESCRIPTION:
URL:https://www.karlovice.eu/udalosti/vanocni-posezeni-pro-seniory-2/
LOCATION:Obecní dům Slezan\, Karlovice 183\, Karlovice\, Moravskoslezský\, 79323\, Česká republika
END:VEVENT
BEGIN:VEVENT
DTSTART;TZID=UTC:20231202T130000
DTEND;TZID=UTC:20231202T143000
DTSTAMP:20260420T175839
CREATED:20231123T133326Z
LAST-MODIFIED:20231123T133326Z
UID:10314-1701522000-1701527400@www.karlovice.eu
SUMMARY:Beseda na téma: Cesta do školy. Školní léta\, říkanky\, pohádky\, pověsti. Tvořivá dílna k rozvoji řečových aktivit.
DESCRIPTION:
URL:https://www.karlovice.eu/udalosti/beseda-na-tema-cesta-do-skoly-skolni-leta-rikanky-pohadky-povesti-tvoriva-dilna-k-rozvoji-recovych-aktivit/
LOCATION:Obecní dům Slezan\, Karlovice 183\, Karlovice\, Moravskoslezský\, 79323\, Česká republika
END:VEVENT
BEGIN:VEVENT
DTSTART;TZID=UTC:20231202T130000
DTEND;TZID=UTC:20231202T130000
DTSTAMP:20260420T175839
CREATED:20231102T115524Z
LAST-MODIFIED:20231123T093437Z
UID:10279-1701522000-1701522000@www.karlovice.eu
SUMMARY:Vánoční jarmark
DESCRIPTION:
URL:https://www.karlovice.eu/udalosti/vanocni-jarmark-2/
LOCATION:Obecní dům Slezan\, Karlovice 183\, Karlovice\, Moravskoslezský\, 79323\, Česká republika
END:VEVENT
BEGIN:VEVENT
DTSTART;TZID=UTC:20231127T160000
DTEND;TZID=UTC:20231127T173000
DTSTAMP:20260420T175839
CREATED:20231123T133113Z
LAST-MODIFIED:20231123T133113Z
UID:10311-1701100800-1701106200@www.karlovice.eu
SUMMARY:Beseda na téma: Shrnutí roční práce\, prezentace stravy pro nadcházející období
DESCRIPTION:
URL:https://www.karlovice.eu/udalosti/beseda-na-tema-shrnuti-rocni-prace-prezentace-stravy-pro-nadchazejici-obdobi/
LOCATION:Obecní dům Slezan\, Karlovice 183\, Karlovice\, Moravskoslezský\, 79323\, Česká republika
END:VEVENT
BEGIN:VEVENT
DTSTART;TZID=UTC:20231116T160000
DTEND;TZID=UTC:20231116T173000
DTSTAMP:20260420T175839
CREATED:20231115T091514Z
LAST-MODIFIED:20231115T091514Z
UID:10288-1700150400-1700155800@www.karlovice.eu
SUMMARY:Beseda na téma: Chlad a důležitost posílení energie
DESCRIPTION:
URL:https://www.karlovice.eu/udalosti/beseda-na-tema-chlad-a-dulezitost-posileni-energie/
LOCATION:Obecní dům Slezan\, Karlovice 183\, Karlovice\, Moravskoslezský\, 79323\, Česká republika
END:VEVENT
BEGIN:VEVENT
DTSTART;TZID=UTC:20231104T190000
DTEND;TZID=UTC:20231104T190000
DTSTAMP:20260420T175839
CREATED:20231012T113845Z
LAST-MODIFIED:20231012T113845Z
UID:10239-1699124400-1699124400@www.karlovice.eu
SUMMARY:Retro párty
DESCRIPTION:
URL:https://www.karlovice.eu/udalosti/retro-party/
LOCATION:Obecní dům Slezan\, Karlovice 183\, Karlovice\, Moravskoslezský\, 79323\, Česká republika
ORGANIZER;CN="Obec%20Karlovice":MAILTO:podatelna@karlovice.eu
END:VEVENT
BEGIN:VEVENT
DTSTART;VALUE=DATE:20231027
DTEND;VALUE=DATE:20231028
DTSTAMP:20260420T175839
CREATED:20231026T122218Z
LAST-MODIFIED:20231026T122218Z
UID:10262-1698364800-1698451199@www.karlovice.eu
SUMMARY:Drakyáda\, Dýně Ve mlýně\, hudební večer
DESCRIPTION:Vyhlášeno rozhlasem: \nČas hlášení: 26. 10. 2023 v 15:00 a 17:00 hod.\, 27. 10. 2023 v 11:00 a 16:00 hod. \nVzdělávací centrum VÍCE Ve mlýně vás srdečně zve v pátek 27. října 2023 od 14:00 do 18:00 hodin na Drakyádu a dýňování. Od 19 hodin se můžete těšit na hudební večer\, zahraje Javorový škrpál.
URL:https://www.karlovice.eu/udalosti/drakyada-dyne-ve-mlyne-hudebni-vecer/
LOCATION:Moravskoslezský
END:VEVENT
BEGIN:VEVENT
DTSTART;TZID=UTC:20231026T150000
DTEND;TZID=UTC:20231026T163000
DTSTAMP:20260420T175839
CREATED:20231012T113622Z
LAST-MODIFIED:20231012T113622Z
UID:10236-1698332400-1698337800@www.karlovice.eu
SUMMARY:Beseda: Výtvarná dílna\, techniky našich babiček i nové výtvarné směry
DESCRIPTION:
URL:https://www.karlovice.eu/udalosti/beseda-vytvarna-dilna-techniky-nasich-babicek-i-nove-vytvarne-smery/
LOCATION:Obecní dům Slezan\, Karlovice 183\, Karlovice\, Moravskoslezský\, 79323\, Česká republika
END:VEVENT
BEGIN:VEVENT
DTSTART;TZID=UTC:20231021T080000
DTEND;TZID=UTC:20231021T150000
DTSTAMP:20260420T175839
CREATED:20231012T113121Z
LAST-MODIFIED:20231012T113121Z
UID:10233-1697875200-1697900400@www.karlovice.eu
SUMMARY:Karlovický bazárek
DESCRIPTION:
URL:https://www.karlovice.eu/udalosti/karlovicky-bazarek-2/
LOCATION:Obecní dům Slezan\, Karlovice 183\, Karlovice\, Moravskoslezský\, 79323\, Česká republika
END:VEVENT
BEGIN:VEVENT
DTSTART;TZID=UTC:20231012T150000
DTEND;TZID=UTC:20231012T163000
DTSTAMP:20260420T175839
CREATED:20231011T065356Z
LAST-MODIFIED:20231011T065411Z
UID:10229-1697122800-1697128200@www.karlovice.eu
SUMMARY:Beseda: Kreativní tvoření z plodů podzimu
DESCRIPTION:
URL:https://www.karlovice.eu/udalosti/beseda-kreativni-tvoreni-z-plodu-podzimu/
LOCATION:Obecní dům Slezan\, Karlovice 183\, Karlovice\, Moravskoslezský\, 79323\, Česká republika
END:VEVENT
BEGIN:VEVENT
DTSTART;TZID=UTC:20230923T000000
DTEND;TZID=UTC:20231124T000000
DTSTAMP:20260420T175839
CREATED:20230830T113420Z
LAST-MODIFIED:20230830T113420Z
UID:10178-1695427200-1700784000@www.karlovice.eu
SUMMARY:Výstava v Art Galerii Penzion U Řeky – Bořek Zeman
DESCRIPTION:
URL:https://www.karlovice.eu/udalosti/vystava-v-art-galerii-penzion-u-reky-borek-zeman/
LOCATION:Pension U řeky\, Karlovice 209\, Karlovice\, 79323\, Česká republika
END:VEVENT
BEGIN:VEVENT
DTSTART;TZID=UTC:20230921T150000
DTEND;TZID=UTC:20230921T163000
DTSTAMP:20260420T175839
CREATED:20230830T112953Z
LAST-MODIFIED:20230830T112953Z
UID:10172-1695308400-1695313800@www.karlovice.eu
SUMMARY:Beseda na téma: Vzpomínky
DESCRIPTION:
URL:https://www.karlovice.eu/udalosti/beseda-na-tema-vzpominky/
LOCATION:Obecní dům Slezan\, Karlovice 183\, Karlovice\, Moravskoslezský\, 79323\, Česká republika
END:VEVENT
BEGIN:VEVENT
DTSTART;TZID=UTC:20230916T130000
DTEND;TZID=UTC:20230916T130000
DTSTAMP:20260420T175839
CREATED:20230914T093811Z
LAST-MODIFIED:20230914T093811Z
UID:10209-1694869200-1694869200@www.karlovice.eu
SUMMARY:Fotbalové utkání
DESCRIPTION:Vyhlášeno rozhlasem: \nČas hlášení: 14. 9. v 16:00 hod.\, 15. 9. v 16:00 hod.\, 16. 9. v 11:00 hod. \nFOTBALOVÉ UTKÁNÍ \nSokol Karlovice Vás srdečně zve na mistrovské utkání okresního přeboru mužů proti Hornímu Městu\, které se uskuteční v sobotu 16. září 2023 v 15:30 na fotbalovém hřišti. Předzápasem mužů bude utkání starších žáků\, kteří přivítají od 13:00 hod. stejného soupeře. Občerstvení zajištěno.
URL:https://www.karlovice.eu/udalosti/fotbalove-utkani-4/
LOCATION:Fotbalové hřiště Karlovice
END:VEVENT
BEGIN:VEVENT
DTSTART;TZID=UTC:20230914T150000
DTEND;TZID=UTC:20230914T163000
DTSTAMP:20260420T175839
CREATED:20230830T112826Z
LAST-MODIFIED:20230830T112826Z
UID:10169-1694703600-1694709000@www.karlovice.eu
SUMMARY:Beseda na téma: Podzimní energie
DESCRIPTION:
URL:https://www.karlovice.eu/udalosti/beseda-na-tema-podzimni-energie/
LOCATION:Obecní dům Slezan\, Karlovice 183\, Karlovice\, Moravskoslezský\, 79323\, Česká republika
END:VEVENT
BEGIN:VEVENT
DTSTART;VALUE=DATE:20230907
DTEND;VALUE=DATE:20230908
DTSTAMP:20260420T175839
CREATED:20230826T061414Z
LAST-MODIFIED:20230826T061414Z
UID:10166-1694044800-1694131199@www.karlovice.eu
SUMMARY:Zájezd seniorů
DESCRIPTION:
URL:https://www.karlovice.eu/udalosti/zajezd-senioru/
LOCATION:Moravskoslezský
END:VEVENT
BEGIN:VEVENT
DTSTART;TZID=UTC:20230819T140000
DTEND;TZID=UTC:20230819T140000
DTSTAMP:20260420T175839
CREATED:20230817T111431Z
LAST-MODIFIED:20230817T111431Z
UID:10156-1692453600-1692453600@www.karlovice.eu
SUMMARY:Fotbalové utkání
DESCRIPTION:Vyhlášeno rozhlasem: 17. 8. v 16:00 hod.\, 18. 8. v 16:00 hod.\, 19. 8. v 11:00 hod. \nSokol Karlovice Vás srdečně zve na mistrovské utkání okresního přeboru mužů proti Úvalnu\, které se uskuteční v sobotu 19. srpna 2023 v 16:30 na fotbalovém hřišti. Předzápasem mužů bude utkání starších žáků\, kteří přivítají od 14:00 hod.  Krásné Loučky. Občerstvení je zajištěno.
URL:https://www.karlovice.eu/udalosti/fotbalove-utkani-3/
LOCATION:Fotbalové hřiště Karlovice
END:VEVENT
BEGIN:VEVENT
DTSTART;TZID=UTC:20230729T140000
DTEND;TZID=UTC:20230729T180000
DTSTAMP:20260420T175839
CREATED:20230727T112735Z
LAST-MODIFIED:20230727T112735Z
UID:10141-1690639200-1690653600@www.karlovice.eu
SUMMARY:Fajne léto na Kosárně
DESCRIPTION:
URL:https://www.karlovice.eu/udalosti/fajne-leto-na-kosarne/
LOCATION:Moravskoslezský
END:VEVENT
BEGIN:VEVENT
DTSTART;TZID=UTC:20230722T000000
DTEND;TZID=UTC:20230922T000000
DTSTAMP:20260420T175839
CREATED:20230830T113313Z
LAST-MODIFIED:20230830T113313Z
UID:10175-1689984000-1695340800@www.karlovice.eu
SUMMARY:Výstava v Art Galerii Penzion U Řeky – Silvie Janotta Forsyth
DESCRIPTION:
URL:https://www.karlovice.eu/udalosti/vystava-v-art-galerii-penzion-u-reky-silvie-janotta-forsyth/
LOCATION:Pension U řeky\, Karlovice 209\, Karlovice\, 79323\, Česká republika
END:VEVENT
BEGIN:VEVENT
DTSTART;TZID=UTC:20230715T000000
DTEND;TZID=UTC:20230716T000000
DTSTAMP:20260420T175839
CREATED:20230710T131047Z
LAST-MODIFIED:20230710T131047Z
UID:10102-1689379200-1689465600@www.karlovice.eu
SUMMARY:Dny lidové architektury Moravskoslezského kraje 2023
DESCRIPTION:
URL:https://www.karlovice.eu/udalosti/dny-lidove-architektury-moravskoslezskeho-kraje-2023/
LOCATION:Moravskoslezský
END:VEVENT
END:VCALENDAR